BEGIN:VCALENDAR
VERSION:2.0
PRODID:-//Jasper Chamber of Commerce - ECPv6.15.20//NONSGML v1.0//EN
CALSCALE:GREGORIAN
METHOD:PUBLISH
X-ORIGINAL-URL:https://jasperin.org
X-WR-CALDESC:Events for Jasper Chamber of Commerce
REFRESH-INTERVAL;VALUE=DURATION:PT1H
X-Robots-Tag:noindex
X-PUBLISHED-TTL:PT1H
BEGIN:VTIMEZONE
TZID:America/Indiana/Indianapolis
BEGIN:DAYLIGHT
TZOFFSETFROM:-0500
TZOFFSETTO:-0400
TZNAME:EDT
DTSTART:20170312T070000
END:DAYLIGHT
BEGIN:STANDARD
TZOFFSETFROM:-0400
TZOFFSETTO:-0500
TZNAME:EST
DTSTART:20171105T060000
END:STANDARD
BEGIN:DAYLIGHT
TZOFFSETFROM:-0500
TZOFFSETTO:-0400
TZNAME:EDT
DTSTART:20180311T070000
END:DAYLIGHT
BEGIN:STANDARD
TZOFFSETFROM:-0400
TZOFFSETTO:-0500
TZNAME:EST
DTSTART:20181104T060000
END:STANDARD
BEGIN:DAYLIGHT
TZOFFSETFROM:-0500
TZOFFSETTO:-0400
TZNAME:EDT
DTSTART:20190310T070000
END:DAYLIGHT
BEGIN:STANDARD
TZOFFSETFROM:-0400
TZOFFSETTO:-0500
TZNAME:EST
DTSTART:20191103T060000
END:STANDARD
END:VTIMEZONE
BEGIN:VEVENT
DTSTART;TZID=America/Indiana/Indianapolis:20180520T110000
DTEND;TZID=America/Indiana/Indianapolis:20180520T170000
DTSTAMP:20260424T102547
CREATED:20180228T162528Z
LAST-MODIFIED:20180228T210251Z
UID:1203-1526814000-1526835600@jasperin.org
SUMMARY:Old Jasper Day
DESCRIPTION:Location: Jasper Riverwalk Plaza \nEnjoy strawberries\, sandwiches and other treats all day long – in the Shelter Houses by the Plaza.  This is a great way to support the Lions Club – have some good food – and enjoy this fun day! \nJasper City Mill – Wagon Rides – Strawberries – Food – Music – Train Rides – Duck Race – Stone Carver Demonstrations \n 
URL:https://jasperin.org/event/old-jasper-day-2/
LOCATION:IN
END:VEVENT
END:VCALENDAR