BEGIN:VCALENDAR
VERSION:2.0
PRODID:-//Jasper Chamber of Commerce - ECPv6.15.20//NONSGML v1.0//EN
CALSCALE:GREGORIAN
METHOD:PUBLISH
X-ORIGINAL-URL:https://jasperin.org
X-WR-CALDESC:Events for Jasper Chamber of Commerce
REFRESH-INTERVAL;VALUE=DURATION:PT1H
X-Robots-Tag:noindex
X-PUBLISHED-TTL:PT1H
BEGIN:VTIMEZONE
TZID:America/Indiana/Indianapolis
BEGIN:DAYLIGHT
TZOFFSETFROM:-0500
TZOFFSETTO:-0400
TZNAME:EDT
DTSTART:20170312T070000
END:DAYLIGHT
BEGIN:STANDARD
TZOFFSETFROM:-0400
TZOFFSETTO:-0500
TZNAME:EST
DTSTART:20171105T060000
END:STANDARD
BEGIN:DAYLIGHT
TZOFFSETFROM:-0500
TZOFFSETTO:-0400
TZNAME:EDT
DTSTART:20180311T070000
END:DAYLIGHT
BEGIN:STANDARD
TZOFFSETFROM:-0400
TZOFFSETTO:-0500
TZNAME:EST
DTSTART:20181104T060000
END:STANDARD
BEGIN:DAYLIGHT
TZOFFSETFROM:-0500
TZOFFSETTO:-0400
TZNAME:EDT
DTSTART:20190310T070000
END:DAYLIGHT
BEGIN:STANDARD
TZOFFSETFROM:-0400
TZOFFSETTO:-0500
TZNAME:EST
DTSTART:20191103T060000
END:STANDARD
END:VTIMEZONE
BEGIN:VEVENT
DTSTART;TZID=America/Indiana/Indianapolis:20180717T073000
DTEND;TZID=America/Indiana/Indianapolis:20180717T073000
DTSTAMP:20260424T072510
CREATED:20180619T153437Z
LAST-MODIFIED:20180619T153437Z
UID:2054-1531812600-1531812600@jasperin.org
SUMMARY:Monthly Board Meeting
DESCRIPTION:Jasper Chamber of Commerce monthly board meeting will be held in the Jasper Chamber Back Room. \nMeeting time is actually 7:45 a.m.
URL:https://jasperin.org/event/monthly-board-meeting/
LOCATION:Jasper Chamber of Commerce\, 302 West 6th Street\, Jasper\, IN\, 47546\, United States
END:VEVENT
END:VCALENDAR