BEGIN:VCALENDAR
VERSION:2.0
PRODID:-//Jasper Chamber of Commerce - ECPv6.15.20//NONSGML v1.0//EN
CALSCALE:GREGORIAN
METHOD:PUBLISH
X-ORIGINAL-URL:https://jasperin.org
X-WR-CALDESC:Events for Jasper Chamber of Commerce
REFRESH-INTERVAL;VALUE=DURATION:PT1H
X-Robots-Tag:noindex
X-PUBLISHED-TTL:PT1H
BEGIN:VTIMEZONE
TZID:America/Indiana/Indianapolis
BEGIN:DAYLIGHT
TZOFFSETFROM:-0500
TZOFFSETTO:-0400
TZNAME:EDT
DTSTART:20170312T070000
END:DAYLIGHT
BEGIN:STANDARD
TZOFFSETFROM:-0400
TZOFFSETTO:-0500
TZNAME:EST
DTSTART:20171105T060000
END:STANDARD
BEGIN:DAYLIGHT
TZOFFSETFROM:-0500
TZOFFSETTO:-0400
TZNAME:EDT
DTSTART:20180311T070000
END:DAYLIGHT
BEGIN:STANDARD
TZOFFSETFROM:-0400
TZOFFSETTO:-0500
TZNAME:EST
DTSTART:20181104T060000
END:STANDARD
BEGIN:DAYLIGHT
TZOFFSETFROM:-0500
TZOFFSETTO:-0400
TZNAME:EDT
DTSTART:20190310T070000
END:DAYLIGHT
BEGIN:STANDARD
TZOFFSETFROM:-0400
TZOFFSETTO:-0500
TZNAME:EST
DTSTART:20191103T060000
END:STANDARD
END:VTIMEZONE
BEGIN:VEVENT
DTSTART;TZID=America/Indiana/Indianapolis:20180726T113000
DTEND;TZID=America/Indiana/Indianapolis:20180726T130000
DTSTAMP:20260424T072508
CREATED:20180619T154455Z
LAST-MODIFIED:20180619T154455Z
UID:2056-1532604600-1532610000@jasperin.org
SUMMARY:Cyber Security Seminar
DESCRIPTION:Should you be concerned about cyber security?  Learn how cyber security is relevant to your daily business and personal life.  What are the threats\, how can it impact you\, and what precautions can you take?  Make informed decisions about your privacy and information security.  Presenter is Chris Martin\, Security Solution Architect.  Join us for this free presentation!  Lunch will be provided.  RSVP by July 20th to chamber@jasperin.org or 812-482-6866  *Sponsored by Matrix Integration and the Jasper Chamber of Commerce.
URL:https://jasperin.org/event/cyber-security-seminar/
LOCATION:Jasper Train Depot\, 201 Mill St.\, Jasper\, IN\, 47546\, United States
END:VEVENT
END:VCALENDAR