BEGIN:VCALENDAR
VERSION:2.0
PRODID:-//Jasper Chamber of Commerce - ECPv6.15.20//NONSGML v1.0//EN
CALSCALE:GREGORIAN
METHOD:PUBLISH
X-ORIGINAL-URL:https://jasperin.org
X-WR-CALDESC:Events for Jasper Chamber of Commerce
REFRESH-INTERVAL;VALUE=DURATION:PT1H
X-Robots-Tag:noindex
X-PUBLISHED-TTL:PT1H
BEGIN:VTIMEZONE
TZID:America/Indiana/Indianapolis
BEGIN:DAYLIGHT
TZOFFSETFROM:-0500
TZOFFSETTO:-0400
TZNAME:EDT
DTSTART:20170312T070000
END:DAYLIGHT
BEGIN:STANDARD
TZOFFSETFROM:-0400
TZOFFSETTO:-0500
TZNAME:EST
DTSTART:20171105T060000
END:STANDARD
BEGIN:DAYLIGHT
TZOFFSETFROM:-0500
TZOFFSETTO:-0400
TZNAME:EDT
DTSTART:20180311T070000
END:DAYLIGHT
BEGIN:STANDARD
TZOFFSETFROM:-0400
TZOFFSETTO:-0500
TZNAME:EST
DTSTART:20181104T060000
END:STANDARD
BEGIN:DAYLIGHT
TZOFFSETFROM:-0500
TZOFFSETTO:-0400
TZNAME:EDT
DTSTART:20190310T070000
END:DAYLIGHT
BEGIN:STANDARD
TZOFFSETFROM:-0400
TZOFFSETTO:-0500
TZNAME:EST
DTSTART:20191103T060000
END:STANDARD
END:VTIMEZONE
BEGIN:VEVENT
DTSTART;TZID=America/Indiana/Indianapolis:20180919T090000
DTEND;TZID=America/Indiana/Indianapolis:20180920T133000
DTSTAMP:20260422T052227
CREATED:20180620T163653Z
LAST-MODIFIED:20180816T142652Z
UID:2071-1537347600-1537450200@jasperin.org
SUMMARY:Take Your Professional Head Shot
DESCRIPTION:Anne K. Photography – Photographer \nWill be held in the Jasper Chamber Back Room on September 19th & 20th \nThis is a great opportunity to update your professional head shot – for your resume\, Facebook\, LinkedIn\, etc.  You will receive a CD with several professional photos. \nTimes:  9:00 AM – 1:30 PM each day (by appointment only). \nFee Schedule:  $40 for a Chamber Member – $60 for a Non-Member \nTo make your appointment\, email to:  annekphotos@gmail.com and Anne McGowan will schedule your time/make your appointment.
URL:https://jasperin.org/event/take-your-professional-head-shot/
LOCATION:Jasper Chamber of Commerce\, 302 West 6th Street\, Jasper\, IN\, 47546\, United States
END:VEVENT
END:VCALENDAR