BEGIN:VCALENDAR
VERSION:2.0
PRODID:-//Jasper Chamber of Commerce - ECPv6.15.20//NONSGML v1.0//EN
CALSCALE:GREGORIAN
METHOD:PUBLISH
X-WR-CALNAME:Jasper Chamber of Commerce
X-ORIGINAL-URL:https://jasperin.org
X-WR-CALDESC:Events for Jasper Chamber of Commerce
REFRESH-INTERVAL;VALUE=DURATION:PT1H
X-Robots-Tag:noindex
X-PUBLISHED-TTL:PT1H
BEGIN:VTIMEZONE
TZID:America/Indiana/Indianapolis
BEGIN:DAYLIGHT
TZOFFSETFROM:-0500
TZOFFSETTO:-0400
TZNAME:EDT
DTSTART:20170312T070000
END:DAYLIGHT
BEGIN:STANDARD
TZOFFSETFROM:-0400
TZOFFSETTO:-0500
TZNAME:EST
DTSTART:20171105T060000
END:STANDARD
BEGIN:DAYLIGHT
TZOFFSETFROM:-0500
TZOFFSETTO:-0400
TZNAME:EDT
DTSTART:20180311T070000
END:DAYLIGHT
BEGIN:STANDARD
TZOFFSETFROM:-0400
TZOFFSETTO:-0500
TZNAME:EST
DTSTART:20181104T060000
END:STANDARD
BEGIN:DAYLIGHT
TZOFFSETFROM:-0500
TZOFFSETTO:-0400
TZNAME:EDT
DTSTART:20190310T070000
END:DAYLIGHT
BEGIN:STANDARD
TZOFFSETFROM:-0400
TZOFFSETTO:-0500
TZNAME:EST
DTSTART:20191103T060000
END:STANDARD
END:VTIMEZONE
BEGIN:VEVENT
DTSTART;TZID=America/Indiana/Indianapolis:20181115T113000
DTEND;TZID=America/Indiana/Indianapolis:20181115T130000
DTSTAMP:20260422T022444
CREATED:20180816T183538Z
LAST-MODIFIED:20181109T153400Z
UID:2401-1542281400-1542286800@jasperin.org
SUMMARY:Lunch 'N Learn
DESCRIPTION:Conflict Resolution and Confronting Bullying \n\nReason to confront and stop workplace bullying\nWays to confront and stop workplace bullying\nCauses of workplace conflict\nDo’s and Don’ts of workplace conflict\n\nPresented by:  Strategic HR Solutions (Chamber Member) \nCost:  $20/person \nRSVP to Jasper Chamber of Commerce by November 13th at Chamber@jasperin.org or 812-482-6866
URL:https://jasperin.org/event/lunch-n-learn/
LOCATION:Jasper Chamber of Commerce\, 302 West 6th Street\, Jasper\, IN\, 47546\, United States
END:VEVENT
BEGIN:VEVENT
DTSTART;TZID=America/Indiana/Indianapolis:20181115T140000
DTEND;TZID=America/Indiana/Indianapolis:20181115T140000
DTSTAMP:20260422T022444
CREATED:20181102T191413Z
LAST-MODIFIED:20181102T191413Z
UID:2766-1542290400-1542290400@jasperin.org
SUMMARY:Vine Street Lofts Ribbon Cutting
DESCRIPTION:Join the Jasper Chamber as we welcome this new business to Jasper! \nVine Street Lofts is located at 1308 Vine Street. \nThursday\, November 15\, 2018 @ 2:00 PM – Ribbon Cutting.
URL:https://jasperin.org/event/vine-street-lofts-ribbon-cutting/
LOCATION:IN
END:VEVENT
END:VCALENDAR