BEGIN:VCALENDAR
VERSION:2.0
PRODID:-//Jasper Chamber of Commerce - ECPv6.15.20//NONSGML v1.0//EN
CALSCALE:GREGORIAN
METHOD:PUBLISH
X-WR-CALNAME:Jasper Chamber of Commerce
X-ORIGINAL-URL:https://jasperin.org
X-WR-CALDESC:Events for Jasper Chamber of Commerce
REFRESH-INTERVAL;VALUE=DURATION:PT1H
X-Robots-Tag:noindex
X-PUBLISHED-TTL:PT1H
BEGIN:VTIMEZONE
TZID:America/Indiana/Indianapolis
BEGIN:DAYLIGHT
TZOFFSETFROM:-0500
TZOFFSETTO:-0400
TZNAME:EDT
DTSTART:20170312T070000
END:DAYLIGHT
BEGIN:STANDARD
TZOFFSETFROM:-0400
TZOFFSETTO:-0500
TZNAME:EST
DTSTART:20171105T060000
END:STANDARD
BEGIN:DAYLIGHT
TZOFFSETFROM:-0500
TZOFFSETTO:-0400
TZNAME:EDT
DTSTART:20180311T070000
END:DAYLIGHT
BEGIN:STANDARD
TZOFFSETFROM:-0400
TZOFFSETTO:-0500
TZNAME:EST
DTSTART:20181104T060000
END:STANDARD
BEGIN:DAYLIGHT
TZOFFSETFROM:-0500
TZOFFSETTO:-0400
TZNAME:EDT
DTSTART:20190310T070000
END:DAYLIGHT
BEGIN:STANDARD
TZOFFSETFROM:-0400
TZOFFSETTO:-0500
TZNAME:EST
DTSTART:20191103T060000
END:STANDARD
END:VTIMEZONE
BEGIN:VEVENT
DTSTART;TZID=America/Indiana/Indianapolis:20181123T120000
DTEND;TZID=America/Indiana/Indianapolis:20181123T150000
DTSTAMP:20260422T022446
CREATED:20181031T202123Z
LAST-MODIFIED:20181031T202211Z
UID:2754-1542974400-1542985200@jasperin.org
SUMMARY:Santa Claus is Coming to Town!
DESCRIPTION:Santa will be at the Downtown Fire Station from 12 noon until 1:00 and then will board the Fire Truck.  Along with Santa’s elves and members of the high school band\, they will parade to Santa’s Special House on the west side of the square where *a contest winner* will “open the door to Santa’s house” so Santa can step inside and greet the children.  Mayor Terry Seitz will welcome everyone with a special greating!!  Children are encourage to dress up as Christmas packages and walk along with this mini-parade.  Children can then visit with Santa all afternoon until 3:00 p.m. Children and families can bring canned goods that will be donated to the Community Food Bank!  Sponsor of Santa’s Arrival:  Greater Downtown Jasper Business Association 
URL:https://jasperin.org/event/santa-claus-is-coming-to-town/
LOCATION:IN
END:VEVENT
END:VCALENDAR