BEGIN:VCALENDAR
VERSION:2.0
PRODID:-//Jasper Chamber of Commerce - ECPv6.15.20//NONSGML v1.0//EN
CALSCALE:GREGORIAN
METHOD:PUBLISH
X-WR-CALNAME:Jasper Chamber of Commerce
X-ORIGINAL-URL:https://jasperin.org
X-WR-CALDESC:Events for Jasper Chamber of Commerce
REFRESH-INTERVAL;VALUE=DURATION:PT1H
X-Robots-Tag:noindex
X-PUBLISHED-TTL:PT1H
BEGIN:VTIMEZONE
TZID:America/Indiana/Indianapolis
BEGIN:DAYLIGHT
TZOFFSETFROM:-0500
TZOFFSETTO:-0400
TZNAME:EDT
DTSTART:20180311T070000
END:DAYLIGHT
BEGIN:STANDARD
TZOFFSETFROM:-0400
TZOFFSETTO:-0500
TZNAME:EST
DTSTART:20181104T060000
END:STANDARD
BEGIN:DAYLIGHT
TZOFFSETFROM:-0500
TZOFFSETTO:-0400
TZNAME:EDT
DTSTART:20190310T070000
END:DAYLIGHT
BEGIN:STANDARD
TZOFFSETFROM:-0400
TZOFFSETTO:-0500
TZNAME:EST
DTSTART:20191103T060000
END:STANDARD
BEGIN:DAYLIGHT
TZOFFSETFROM:-0500
TZOFFSETTO:-0400
TZNAME:EDT
DTSTART:20200308T070000
END:DAYLIGHT
BEGIN:STANDARD
TZOFFSETFROM:-0400
TZOFFSETTO:-0500
TZNAME:EST
DTSTART:20201101T060000
END:STANDARD
END:VTIMEZONE
BEGIN:VEVENT
DTSTART;TZID=America/Indiana/Indianapolis:20190627T110000
DTEND;TZID=America/Indiana/Indianapolis:20190627T130000
DTSTAMP:20260421T140620
CREATED:20190612T144338Z
LAST-MODIFIED:20190612T144338Z
UID:3901-1561633200-1561640400@jasperin.org
SUMMARY:Time Out From Business Luncheon
DESCRIPTION:Jasper Chamber of Commerce Time Out From Business Luncheon \nHosted by Smithville Fiber \nJoin us for great fun and door prizes! \nLocation:  The Parkland of Jasper Pavilion \nCatered by:  Sander Catering \nRSVP to theresa.begley@Smithville.com or 812-935-2303
URL:https://jasperin.org/event/time-out-from-business-luncheon/
LOCATION:The Parklands\, 1 Country Club Drive\, Jasper\, IN\, 47546
END:VEVENT
END:VCALENDAR