BEGIN:VCALENDAR
VERSION:2.0
PRODID:-//Jasper Chamber of Commerce - ECPv6.15.20//NONSGML v1.0//EN
CALSCALE:GREGORIAN
METHOD:PUBLISH
X-WR-CALNAME:Jasper Chamber of Commerce
X-ORIGINAL-URL:https://jasperin.org
X-WR-CALDESC:Events for Jasper Chamber of Commerce
REFRESH-INTERVAL;VALUE=DURATION:PT1H
X-Robots-Tag:noindex
X-PUBLISHED-TTL:PT1H
BEGIN:VTIMEZONE
TZID:America/Indiana/Indianapolis
BEGIN:DAYLIGHT
TZOFFSETFROM:-0500
TZOFFSETTO:-0400
TZNAME:EDT
DTSTART:20180311T070000
END:DAYLIGHT
BEGIN:STANDARD
TZOFFSETFROM:-0400
TZOFFSETTO:-0500
TZNAME:EST
DTSTART:20181104T060000
END:STANDARD
BEGIN:DAYLIGHT
TZOFFSETFROM:-0500
TZOFFSETTO:-0400
TZNAME:EDT
DTSTART:20190310T070000
END:DAYLIGHT
BEGIN:STANDARD
TZOFFSETFROM:-0400
TZOFFSETTO:-0500
TZNAME:EST
DTSTART:20191103T060000
END:STANDARD
BEGIN:DAYLIGHT
TZOFFSETFROM:-0500
TZOFFSETTO:-0400
TZNAME:EDT
DTSTART:20200308T070000
END:DAYLIGHT
BEGIN:STANDARD
TZOFFSETFROM:-0400
TZOFFSETTO:-0500
TZNAME:EST
DTSTART:20201101T060000
END:STANDARD
END:VTIMEZONE
BEGIN:VEVENT
DTSTART;TZID=America/Indiana/Indianapolis:20190710T053000
DTEND;TZID=America/Indiana/Indianapolis:20190710T083000
DTSTAMP:20260421T120636
CREATED:20190619T145442Z
LAST-MODIFIED:20190619T145546Z
UID:3932-1562736600-1562747400@jasperin.org
SUMMARY:Health Screening
DESCRIPTION:Jasper Chamber of Commerce is sponsoring a Health Screening for Chamber Members and the Public \nThis screening offers you an opportunity to know your health status\, improve your lifestyle\, and stay healthy. \nLocation:  Memorial Southside Office – 1100 W 12th Avenue\, Jasper\, IN  47546 \nCOST:  Basic Screening:  $39.00/PSA Blood Test:  $20.00 (Optional for Men)/Colon Cancer Detection Kits:  $8.00 (Optional) \nREGISTER:  Appointments are now being accepted for the 2019 Jasper Chamber Health Screening.  Please go to the hospital’s website at www.mhhcc.org\, scroll down and click on “Health Screening.”  Then enter “Jasper Chamber” as the company name and “2019” as the password.  Click on the date of screening/time you prefer for your health screening\, and complete the registration process.  Appointments will be made every 15 minutes.
URL:https://jasperin.org/event/health-screening/
LOCATION:IN
END:VEVENT
END:VCALENDAR