BEGIN:VCALENDAR
VERSION:2.0
PRODID:-//Jasper Chamber of Commerce - ECPv6.15.20//NONSGML v1.0//EN
CALSCALE:GREGORIAN
METHOD:PUBLISH
X-ORIGINAL-URL:https://jasperin.org
X-WR-CALDESC:Events for Jasper Chamber of Commerce
REFRESH-INTERVAL;VALUE=DURATION:PT1H
X-Robots-Tag:noindex
X-PUBLISHED-TTL:PT1H
BEGIN:VTIMEZONE
TZID:America/Indiana/Indianapolis
BEGIN:DAYLIGHT
TZOFFSETFROM:-0500
TZOFFSETTO:-0400
TZNAME:EDT
DTSTART:20190310T070000
END:DAYLIGHT
BEGIN:STANDARD
TZOFFSETFROM:-0400
TZOFFSETTO:-0500
TZNAME:EST
DTSTART:20191103T060000
END:STANDARD
BEGIN:DAYLIGHT
TZOFFSETFROM:-0500
TZOFFSETTO:-0400
TZNAME:EDT
DTSTART:20200308T070000
END:DAYLIGHT
BEGIN:STANDARD
TZOFFSETFROM:-0400
TZOFFSETTO:-0500
TZNAME:EST
DTSTART:20201101T060000
END:STANDARD
BEGIN:DAYLIGHT
TZOFFSETFROM:-0500
TZOFFSETTO:-0400
TZNAME:EDT
DTSTART:20210314T070000
END:DAYLIGHT
BEGIN:STANDARD
TZOFFSETFROM:-0400
TZOFFSETTO:-0500
TZNAME:EST
DTSTART:20211107T060000
END:STANDARD
END:VTIMEZONE
BEGIN:VEVENT
DTSTART;TZID=America/Indiana/Indianapolis:20200328T100000
DTEND;TZID=America/Indiana/Indianapolis:20200328T100000
DTSTAMP:20260421T083909
CREATED:20200224T201227Z
LAST-MODIFIED:20200317T194805Z
UID:5563-1585389600-1585389600@jasperin.org
SUMMARY:Ribbon Cutting - KOHL'S
DESCRIPTION:JOIN THE JASPER CHAMBER as we welcome this new business to Jasper! \nKOHL’S located at 3875  N Newton Street\, Jasper \nRibbon Cutting at 10:00 AM \nTHE RIBBON CUTTING & GRAND OPENING HAVE BEEN POSTPONED FOR NOW.  MORE DETAILS AT A LATER DATE. 
URL:https://jasperin.org/event/ribbon-cutting-kohls/
LOCATION:IN
END:VEVENT
END:VCALENDAR