BEGIN:VCALENDAR
VERSION:2.0
PRODID:-//Jasper Chamber of Commerce - ECPv6.15.20//NONSGML v1.0//EN
CALSCALE:GREGORIAN
METHOD:PUBLISH
X-ORIGINAL-URL:https://jasperin.org
X-WR-CALDESC:Events for Jasper Chamber of Commerce
REFRESH-INTERVAL;VALUE=DURATION:PT1H
X-Robots-Tag:noindex
X-PUBLISHED-TTL:PT1H
BEGIN:VTIMEZONE
TZID:America/Indiana/Indianapolis
BEGIN:DAYLIGHT
TZOFFSETFROM:-0500
TZOFFSETTO:-0400
TZNAME:EDT
DTSTART:20190310T070000
END:DAYLIGHT
BEGIN:STANDARD
TZOFFSETFROM:-0400
TZOFFSETTO:-0500
TZNAME:EST
DTSTART:20191103T060000
END:STANDARD
BEGIN:DAYLIGHT
TZOFFSETFROM:-0500
TZOFFSETTO:-0400
TZNAME:EDT
DTSTART:20200308T070000
END:DAYLIGHT
BEGIN:STANDARD
TZOFFSETFROM:-0400
TZOFFSETTO:-0500
TZNAME:EST
DTSTART:20201101T060000
END:STANDARD
BEGIN:DAYLIGHT
TZOFFSETFROM:-0500
TZOFFSETTO:-0400
TZNAME:EDT
DTSTART:20210314T070000
END:DAYLIGHT
BEGIN:STANDARD
TZOFFSETFROM:-0400
TZOFFSETTO:-0500
TZNAME:EST
DTSTART:20211107T060000
END:STANDARD
END:VTIMEZONE
BEGIN:VEVENT
DTSTART;TZID=America/Indiana/Indianapolis:20200331T113000
DTEND;TZID=America/Indiana/Indianapolis:20200331T130000
DTSTAMP:20260421T084035
CREATED:20200129T151650Z
LAST-MODIFIED:20200317T151028Z
UID:5286-1585654200-1585659600@jasperin.org
SUMMARY:2020 State of Addresses
DESCRIPTION:PRESENTERS INVITED TO PARTICIPATE: \nDubois County Council President Jerry Hunefeld\, Dubois County Commissioners President Nick Hostetter\, Greater Jasper Schools Superintendent Dr. Tracy Lorey\, and Jasper Mayor Dean Vonderheide. \nAuditorium in the CTIM Building at VUJC \nTake some time to come out and learn what is happening in the areas of county government\, schools\, and city government. \n$10 fee/person to cover the cost of the lunch. \nRSVP by March 27th:  Let us know if you will attend:  812-482-6866 or chamber @jasperin.org \nCANCELLED/POSTPONED FOR NOW
URL:https://jasperin.org/event/2020-state-of-addresses/
LOCATION:Vincennes University\, Jasper Campus\, 850 College Ave\, Jasper\, IN\, 47546\, United States
END:VEVENT
END:VCALENDAR