BEGIN:VCALENDAR
VERSION:2.0
PRODID:-//Jasper Chamber of Commerce - ECPv6.15.20//NONSGML v1.0//EN
CALSCALE:GREGORIAN
METHOD:PUBLISH
X-WR-CALNAME:Jasper Chamber of Commerce
X-ORIGINAL-URL:https://jasperin.org
X-WR-CALDESC:Events for Jasper Chamber of Commerce
REFRESH-INTERVAL;VALUE=DURATION:PT1H
X-Robots-Tag:noindex
X-PUBLISHED-TTL:PT1H
BEGIN:VTIMEZONE
TZID:America/Indiana/Indianapolis
BEGIN:DAYLIGHT
TZOFFSETFROM:-0500
TZOFFSETTO:-0400
TZNAME:EDT
DTSTART:20190310T070000
END:DAYLIGHT
BEGIN:STANDARD
TZOFFSETFROM:-0400
TZOFFSETTO:-0500
TZNAME:EST
DTSTART:20191103T060000
END:STANDARD
BEGIN:DAYLIGHT
TZOFFSETFROM:-0500
TZOFFSETTO:-0400
TZNAME:EDT
DTSTART:20200308T070000
END:DAYLIGHT
BEGIN:STANDARD
TZOFFSETFROM:-0400
TZOFFSETTO:-0500
TZNAME:EST
DTSTART:20201101T060000
END:STANDARD
BEGIN:DAYLIGHT
TZOFFSETFROM:-0500
TZOFFSETTO:-0400
TZNAME:EDT
DTSTART:20210314T070000
END:DAYLIGHT
BEGIN:STANDARD
TZOFFSETFROM:-0400
TZOFFSETTO:-0500
TZNAME:EST
DTSTART:20211107T060000
END:STANDARD
END:VTIMEZONE
BEGIN:VEVENT
DTSTART;TZID=America/Indiana/Indianapolis:20200401T173000
DTEND;TZID=America/Indiana/Indianapolis:20200401T183000
DTSTAMP:20260421T083734
CREATED:20200303T202942Z
LAST-MODIFIED:20200317T201922Z
UID:5628-1585762200-1585765800@jasperin.org
SUMMARY:Indiana University Bicentennial Speaking Tour
DESCRIPTION:JOIN THE JASPER CHAMBER OF COMMERCE AS WE WELCOME DR. GRAHAM CARLOS TO JASPER~AS PART OF THE INDIANA UNIVERSITY BICENTENNIAL SPEAKING TOUR \n“HEALTHY & MOTIVATED WORKFORCE” \nDr. W. “Graham” Carlos is a 2001 graduated of Notre Dame and a 2005 graduate of IUSM.  He completed his Residency in Internal Medicine at St. Vincent Hospital in Indianapolis where he served as Chief Resident.  Following his Residency\, Dr. Carlos completed a 3 year fellowship in Pulmonary & Critical Care Medicine at IUSM and also earned a masters degree in clinical research from IUPUI.  Widely recognized for his outstanding teaching and clinical care\, Dr. Carlos is a member of the Gold Humanism Honor Society and Alpha Omega Honor Medical Society.  He is very engaged with the American Thoracic Society and serves on multiple committees and has authored several publications ranging from bedside teaching to pulmonary fibrosis.  He is the current Chair for the 1800 member Section on Medical Education. \nSeating is available for 20.  No charge to attend. \nRSVP by March 30th so we know you will be here.  Jasper Chamber ~ 812-482-6866 or chamber@jasperin.org \nEVENT POSTPONED – WILL RESCHEDULE IN JUNE OR JULY.
URL:https://jasperin.org/event/indiana-university-bicentennial-speaking-tour/
LOCATION:Jasper Chamber of Commerce\, 302 West 6th Street\, Jasper\, IN\, 47546\, United States
END:VEVENT
END:VCALENDAR