BEGIN:VCALENDAR
VERSION:2.0
PRODID:-//Jasper Chamber of Commerce - ECPv6.15.20//NONSGML v1.0//EN
CALSCALE:GREGORIAN
METHOD:PUBLISH
X-WR-CALNAME:Jasper Chamber of Commerce
X-ORIGINAL-URL:https://jasperin.org
X-WR-CALDESC:Events for Jasper Chamber of Commerce
REFRESH-INTERVAL;VALUE=DURATION:PT1H
X-Robots-Tag:noindex
X-PUBLISHED-TTL:PT1H
BEGIN:VTIMEZONE
TZID:America/Indiana/Indianapolis
BEGIN:DAYLIGHT
TZOFFSETFROM:-0500
TZOFFSETTO:-0400
TZNAME:EDT
DTSTART:20190310T070000
END:DAYLIGHT
BEGIN:STANDARD
TZOFFSETFROM:-0400
TZOFFSETTO:-0500
TZNAME:EST
DTSTART:20191103T060000
END:STANDARD
BEGIN:DAYLIGHT
TZOFFSETFROM:-0500
TZOFFSETTO:-0400
TZNAME:EDT
DTSTART:20200308T070000
END:DAYLIGHT
BEGIN:STANDARD
TZOFFSETFROM:-0400
TZOFFSETTO:-0500
TZNAME:EST
DTSTART:20201101T060000
END:STANDARD
BEGIN:DAYLIGHT
TZOFFSETFROM:-0500
TZOFFSETTO:-0400
TZNAME:EDT
DTSTART:20210314T070000
END:DAYLIGHT
BEGIN:STANDARD
TZOFFSETFROM:-0400
TZOFFSETTO:-0500
TZNAME:EST
DTSTART:20211107T060000
END:STANDARD
END:VTIMEZONE
BEGIN:VEVENT
DTSTART;TZID=America/Indiana/Indianapolis:20200422T090000
DTEND;TZID=America/Indiana/Indianapolis:20200422T090000
DTSTAMP:20260421T101727
CREATED:20200417T155808Z
LAST-MODIFIED:20200417T155808Z
UID:5941-1587546000-1587546000@jasperin.org
SUMMARY:Annual Tree Giveaway
DESCRIPTION:The Jasper Park & Recreation Department\, Jasper Chamber of Commerce\, and Patoka 2000 is again sponsoring the annual tree giveaway.  This year’s event is scheduled for Wednesday\, April 22nd starting at 9 am at The Parklands\, located at 800 W 15th Street.  The event this year will be drive-thru only due to the COVID-19 outbreak.  All City of Jasper and Dubois County Health Department recommendations will be followed. \nThis year’s seedlings from the State Nursery will include the following species:  Red Bud\, Red Oak\, White Oak\, Sugar Maple\, Persimmon\, Sycamore\, Tulip Tree\, American Plum\, Pecan\, PawPaw\, and Black Cherry. \nEach person will be limited to 6 seedlings.
URL:https://jasperin.org/event/annual-tree-giveaway/
LOCATION:The Parklands\, 1 Country Club Drive\, Jasper\, IN\, 47546
END:VEVENT
END:VCALENDAR