BEGIN:VCALENDAR
VERSION:2.0
PRODID:-//Jasper Chamber of Commerce - ECPv6.15.20//NONSGML v1.0//EN
CALSCALE:GREGORIAN
METHOD:PUBLISH
X-WR-CALNAME:Jasper Chamber of Commerce
X-ORIGINAL-URL:https://jasperin.org
X-WR-CALDESC:Events for Jasper Chamber of Commerce
REFRESH-INTERVAL;VALUE=DURATION:PT1H
X-Robots-Tag:noindex
X-PUBLISHED-TTL:PT1H
BEGIN:VTIMEZONE
TZID:America/Indiana/Indianapolis
BEGIN:DAYLIGHT
TZOFFSETFROM:-0500
TZOFFSETTO:-0400
TZNAME:EDT
DTSTART:20190310T070000
END:DAYLIGHT
BEGIN:STANDARD
TZOFFSETFROM:-0400
TZOFFSETTO:-0500
TZNAME:EST
DTSTART:20191103T060000
END:STANDARD
BEGIN:DAYLIGHT
TZOFFSETFROM:-0500
TZOFFSETTO:-0400
TZNAME:EDT
DTSTART:20200308T070000
END:DAYLIGHT
BEGIN:STANDARD
TZOFFSETFROM:-0400
TZOFFSETTO:-0500
TZNAME:EST
DTSTART:20201101T060000
END:STANDARD
BEGIN:DAYLIGHT
TZOFFSETFROM:-0500
TZOFFSETTO:-0400
TZNAME:EDT
DTSTART:20210314T070000
END:DAYLIGHT
BEGIN:STANDARD
TZOFFSETFROM:-0400
TZOFFSETTO:-0500
TZNAME:EST
DTSTART:20211107T060000
END:STANDARD
END:VTIMEZONE
BEGIN:VEVENT
DTSTART;TZID=America/Indiana/Indianapolis:20200430T160000
DTEND;TZID=America/Indiana/Indianapolis:20200430T173000
DTSTAMP:20260421T101716
CREATED:20200303T204511Z
LAST-MODIFIED:20200403T195753Z
UID:5630-1588262400-1588267800@jasperin.org
SUMMARY:GROWING YOUR BUSINESS
DESCRIPTION:TIPS ON BUILDING RELATIONSHIPS \nOVERVIEW ~ Every day you encounter a sales opportunity and a chance to grow both as an individual and as an organization.  This workshop will help you start to change your conversations and find new ways to create and develop relationships to build new opportunities.  Led by an instructor with over 34 years of experience in the medical sales field\, you will learn strategies that help you ~ \n\nRethink your everyday conversations to foster growth opportunities\nBuild relations both personally and professionally\nCreate a plan to approach conversations as sales opportunities\nStart to think of your conversations as a time to build your personal brand\n\nInstructor ~ Chip Helm ~ chiphelm.com \nInstructor Bio ~ Over 34 years ago\, life experiences led Chip Helm to a new opportunity in the sales world where he quickly realized sales were not about contracts and figures\, but instead were about relationships and conversations.  Chip’s workshops will help mentor others into seeing sales in a new way.  In addition to over 34 years of professional relationship-building\, Chip holds a BA in biology from Indiana University and an MBA from the University of South Florida.  He is a bestselling author of two books. \nWho ~ Business leaders and employees of companies of all sizes including established companies and start ups.  This class will help companies grow by showing their employees how they are ultimately in sales positions and can impact the growth of the company. \nBrought to you by ~ Indiana Small Business Development Center South Central\, Ivy Tech Community College\, and Jasper Chamber of Commerce.  This is a FREE event. \nRSVP BY April 28th ~ 812-482-6866 or chamber@jasperin.org \n*CANCELLED – POSTPONED FOR NOW!
URL:https://jasperin.org/event/growing-your-business/
LOCATION:Jasper Chamber of Commerce\, 302 West 6th Street\, Jasper\, IN\, 47546\, United States
END:VEVENT
END:VCALENDAR