BEGIN:VCALENDAR
VERSION:2.0
PRODID:-//Jasper Chamber of Commerce - ECPv6.15.20//NONSGML v1.0//EN
CALSCALE:GREGORIAN
METHOD:PUBLISH
X-WR-CALNAME:Jasper Chamber of Commerce
X-ORIGINAL-URL:https://jasperin.org
X-WR-CALDESC:Events for Jasper Chamber of Commerce
REFRESH-INTERVAL;VALUE=DURATION:PT1H
X-Robots-Tag:noindex
X-PUBLISHED-TTL:PT1H
BEGIN:VTIMEZONE
TZID:America/Indiana/Indianapolis
BEGIN:DAYLIGHT
TZOFFSETFROM:-0500
TZOFFSETTO:-0400
TZNAME:EDT
DTSTART:20190310T070000
END:DAYLIGHT
BEGIN:STANDARD
TZOFFSETFROM:-0400
TZOFFSETTO:-0500
TZNAME:EST
DTSTART:20191103T060000
END:STANDARD
BEGIN:DAYLIGHT
TZOFFSETFROM:-0500
TZOFFSETTO:-0400
TZNAME:EDT
DTSTART:20200308T070000
END:DAYLIGHT
BEGIN:STANDARD
TZOFFSETFROM:-0400
TZOFFSETTO:-0500
TZNAME:EST
DTSTART:20201101T060000
END:STANDARD
BEGIN:DAYLIGHT
TZOFFSETFROM:-0500
TZOFFSETTO:-0400
TZNAME:EDT
DTSTART:20210314T070000
END:DAYLIGHT
BEGIN:STANDARD
TZOFFSETFROM:-0400
TZOFFSETTO:-0500
TZNAME:EST
DTSTART:20211107T060000
END:STANDARD
END:VTIMEZONE
BEGIN:VEVENT
DTSTART;TZID=America/Indiana/Indianapolis:20200724T153000
DTEND;TZID=America/Indiana/Indianapolis:20200724T153000
DTSTAMP:20260421T154306
CREATED:20200415T190407Z
LAST-MODIFIED:20200715T153433Z
UID:5927-1595604600-1595604600@jasperin.org
SUMMARY:Ribbon Cutting - Crosby & Drumm
DESCRIPTION:JOIN THE JASPER CHAMBER as we welcome this New Business to Jasper! \nCrosby & Drumm is a Truck Equipment & Accessories\, Welding – Fabrication Company \nLocated at 365 11th Avenue\, Jasper \nRibbon Cutting on Friday\, July 24\, 2020 @ 3:30 pm \n*Please wear a mask and plan to personally distance at the event.
URL:https://jasperin.org/event/ribbon-cutting-crosby-drumm/
LOCATION:IN
END:VEVENT
END:VCALENDAR