BEGIN:VCALENDAR
VERSION:2.0
PRODID:-//Jasper Chamber of Commerce - ECPv6.15.20//NONSGML v1.0//EN
CALSCALE:GREGORIAN
METHOD:PUBLISH
X-ORIGINAL-URL:https://jasperin.org
X-WR-CALDESC:Events for Jasper Chamber of Commerce
REFRESH-INTERVAL;VALUE=DURATION:PT1H
X-Robots-Tag:noindex
X-PUBLISHED-TTL:PT1H
BEGIN:VTIMEZONE
TZID:America/Indiana/Indianapolis
BEGIN:DAYLIGHT
TZOFFSETFROM:-0500
TZOFFSETTO:-0400
TZNAME:EDT
DTSTART:20190310T070000
END:DAYLIGHT
BEGIN:STANDARD
TZOFFSETFROM:-0400
TZOFFSETTO:-0500
TZNAME:EST
DTSTART:20191103T060000
END:STANDARD
BEGIN:DAYLIGHT
TZOFFSETFROM:-0500
TZOFFSETTO:-0400
TZNAME:EDT
DTSTART:20200308T070000
END:DAYLIGHT
BEGIN:STANDARD
TZOFFSETFROM:-0400
TZOFFSETTO:-0500
TZNAME:EST
DTSTART:20201101T060000
END:STANDARD
BEGIN:DAYLIGHT
TZOFFSETFROM:-0500
TZOFFSETTO:-0400
TZNAME:EDT
DTSTART:20210314T070000
END:DAYLIGHT
BEGIN:STANDARD
TZOFFSETFROM:-0400
TZOFFSETTO:-0500
TZNAME:EST
DTSTART:20211107T060000
END:STANDARD
END:VTIMEZONE
BEGIN:VEVENT
DTSTART;TZID=America/Indiana/Indianapolis:20200806T100000
DTEND;TZID=America/Indiana/Indianapolis:20200806T100000
DTSTAMP:20260421T172430
CREATED:20200730T160840Z
LAST-MODIFIED:20200730T160840Z
UID:6708-1596708000-1596708000@jasperin.org
SUMMARY:Ribbon Cutting-FitFuel Nutrition+Fitness+Cryotherapy
DESCRIPTION:JOIN THE JASPER CHAMBER \nAs we welcome this new business to Jasper! \nFitFuel Nutrition+Fitness+Cryotherapy \nLocated at:  225 River Center Landing
URL:https://jasperin.org/event/ribbon-cutting-fitfuel-nutritionfitnesscryotherapy/
LOCATION:IN
END:VEVENT
END:VCALENDAR