BEGIN:VCALENDAR
VERSION:2.0
PRODID:-//Jasper Chamber of Commerce - ECPv6.15.20//NONSGML v1.0//EN
CALSCALE:GREGORIAN
METHOD:PUBLISH
X-ORIGINAL-URL:https://jasperin.org
X-WR-CALDESC:Events for Jasper Chamber of Commerce
REFRESH-INTERVAL;VALUE=DURATION:PT1H
X-Robots-Tag:noindex
X-PUBLISHED-TTL:PT1H
BEGIN:VTIMEZONE
TZID:America/Indiana/Indianapolis
BEGIN:DAYLIGHT
TZOFFSETFROM:-0500
TZOFFSETTO:-0400
TZNAME:EDT
DTSTART:20190310T070000
END:DAYLIGHT
BEGIN:STANDARD
TZOFFSETFROM:-0400
TZOFFSETTO:-0500
TZNAME:EST
DTSTART:20191103T060000
END:STANDARD
BEGIN:DAYLIGHT
TZOFFSETFROM:-0500
TZOFFSETTO:-0400
TZNAME:EDT
DTSTART:20200308T070000
END:DAYLIGHT
BEGIN:STANDARD
TZOFFSETFROM:-0400
TZOFFSETTO:-0500
TZNAME:EST
DTSTART:20201101T060000
END:STANDARD
BEGIN:DAYLIGHT
TZOFFSETFROM:-0500
TZOFFSETTO:-0400
TZNAME:EDT
DTSTART:20210314T070000
END:DAYLIGHT
BEGIN:STANDARD
TZOFFSETFROM:-0400
TZOFFSETTO:-0500
TZNAME:EST
DTSTART:20211107T060000
END:STANDARD
END:VTIMEZONE
BEGIN:VEVENT
DTSTART;TZID=America/Indiana/Indianapolis:20201118T113000
DTEND;TZID=America/Indiana/Indianapolis:20201118T113000
DTSTAMP:20260421T231358
CREATED:20201028T192746Z
LAST-MODIFIED:20201028T192746Z
UID:8229-1605699000-1605699000@jasperin.org
SUMMARY:A Lunch & Learn via Zoom-Mental Health in the Workplace
DESCRIPTION:The Jasper Chamber is so proud to partner with Memorial Hospital to bring this presentation to the business community.  Call the Chamber at 812-482-6866 to receive the link via email to register.  Thanks so much – this is an important topic – we all will learn so much!!\n \nMental Health in the Workplace-Mental Health & Coping during COVID-19-A Lunch & Learn via Zoom with Healther Terwiske\, MSW\, LCSW and Melissa Lueken\, MSW \nMental health issues affect businesses and their employees especially during COVID-19.  Poor mental health and stress can negatively affect employees with job performance and productivity\, engagement\, communication\, and physical capability.  Join via Zoom and listen in as Memorial Hospital’s mental health experts\, Heather and Melissa\, share what employers can do to help their employees in the workplace. \n  \n  \n 
URL:https://jasperin.org/event/a-lunch-learn-via-zoom-mental-health-in-the-workplace/
LOCATION:IN
END:VEVENT
END:VCALENDAR