BEGIN:VCALENDAR
VERSION:2.0
PRODID:-//Jasper Chamber of Commerce - ECPv6.15.20//NONSGML v1.0//EN
CALSCALE:GREGORIAN
METHOD:PUBLISH
X-ORIGINAL-URL:https://jasperin.org
X-WR-CALDESC:Events for Jasper Chamber of Commerce
REFRESH-INTERVAL;VALUE=DURATION:PT1H
X-Robots-Tag:noindex
X-PUBLISHED-TTL:PT1H
BEGIN:VTIMEZONE
TZID:America/Indiana/Indianapolis
BEGIN:DAYLIGHT
TZOFFSETFROM:-0500
TZOFFSETTO:-0400
TZNAME:EDT
DTSTART:20190310T070000
END:DAYLIGHT
BEGIN:STANDARD
TZOFFSETFROM:-0400
TZOFFSETTO:-0500
TZNAME:EST
DTSTART:20191103T060000
END:STANDARD
BEGIN:DAYLIGHT
TZOFFSETFROM:-0500
TZOFFSETTO:-0400
TZNAME:EDT
DTSTART:20200308T070000
END:DAYLIGHT
BEGIN:STANDARD
TZOFFSETFROM:-0400
TZOFFSETTO:-0500
TZNAME:EST
DTSTART:20201101T060000
END:STANDARD
BEGIN:DAYLIGHT
TZOFFSETFROM:-0500
TZOFFSETTO:-0400
TZNAME:EDT
DTSTART:20210314T070000
END:DAYLIGHT
BEGIN:STANDARD
TZOFFSETFROM:-0400
TZOFFSETTO:-0500
TZNAME:EST
DTSTART:20211107T060000
END:STANDARD
END:VTIMEZONE
BEGIN:VEVENT
DTSTART;TZID=America/Indiana/Indianapolis:20201125T090000
DTEND;TZID=America/Indiana/Indianapolis:20201207T163000
DTSTAMP:20260421T231253
CREATED:20201123T205850Z
LAST-MODIFIED:20201123T205850Z
UID:8710-1606294800-1607358600@jasperin.org
SUMMARY:Heart of Jasper Presents: Scavenger Hunt
DESCRIPTION:Heart of Jasper Presents: \nHoliday Family Fun SCAVENGER HUNT Jasper\, IN \nNovember 25th-December 7th\, 2020 \nDIRECTIONS: \nLocate images on the Scavenger Hunt Sheet (obtain from Heart of Jasper FB page) & bring answers to the Jasper Chamber = WIN A PRIZE!  *Limited to the first 100* \nStart searching at any time!  Claim prizes at Jasper Chamber of Commerce\, 302 W 6th Street\, Jasper (M-F\, 9 am-4:30 pm)  Visit @Heartof Jasper On Facebook for more information. \n 
URL:https://jasperin.org/event/heart-of-jasper-presents-scavenger-hunt/
LOCATION:IN
END:VEVENT
END:VCALENDAR