BEGIN:VCALENDAR
VERSION:2.0
PRODID:-//Jasper Chamber of Commerce - ECPv6.15.20//NONSGML v1.0//EN
CALSCALE:GREGORIAN
METHOD:PUBLISH
X-WR-CALNAME:Jasper Chamber of Commerce
X-ORIGINAL-URL:https://jasperin.org
X-WR-CALDESC:Events for Jasper Chamber of Commerce
REFRESH-INTERVAL;VALUE=DURATION:PT1H
X-Robots-Tag:noindex
X-PUBLISHED-TTL:PT1H
BEGIN:VTIMEZONE
TZID:America/Indiana/Indianapolis
BEGIN:DAYLIGHT
TZOFFSETFROM:-0500
TZOFFSETTO:-0400
TZNAME:EDT
DTSTART:20200308T070000
END:DAYLIGHT
BEGIN:STANDARD
TZOFFSETFROM:-0400
TZOFFSETTO:-0500
TZNAME:EST
DTSTART:20201101T060000
END:STANDARD
BEGIN:DAYLIGHT
TZOFFSETFROM:-0500
TZOFFSETTO:-0400
TZNAME:EDT
DTSTART:20210314T070000
END:DAYLIGHT
BEGIN:STANDARD
TZOFFSETFROM:-0400
TZOFFSETTO:-0500
TZNAME:EST
DTSTART:20211107T060000
END:STANDARD
BEGIN:DAYLIGHT
TZOFFSETFROM:-0500
TZOFFSETTO:-0400
TZNAME:EDT
DTSTART:20220313T070000
END:DAYLIGHT
BEGIN:STANDARD
TZOFFSETFROM:-0400
TZOFFSETTO:-0500
TZNAME:EST
DTSTART:20221106T060000
END:STANDARD
END:VTIMEZONE
BEGIN:VEVENT
DTSTART;TZID=America/Indiana/Indianapolis:20210421T113000
DTEND;TZID=America/Indiana/Indianapolis:20210421T113000
DTSTAMP:20260424T060524
CREATED:20210415T152617Z
LAST-MODIFIED:20210415T152617Z
UID:10096-1619004600-1619004600@jasperin.org
SUMMARY:Women Empowering Women April Event
DESCRIPTION:Aaron Estabrook on Body Language \nThe Dubois County women’s leadership organization\, Women Empowering Women (WEW)\, will host its next event\, virtually\, on Wednesday\, April 21 to hear Aaron Estabrook\, Digital Marketing Manager at OFS.   \nHis presentation will cover the topic of “Building your personal brand both online and in-person.”  Presentation goal:  Following this presentation\, the WEW audience will leave with tangible tactics they can use in their everyday lives and career to become a more confident\, influential\, and impactful communicator.   \nThe session will be held via the Zoom webinar platform and begins at 11:45 am.  This event is open to all prospective and current WEW members. \nAaron Estabrook is a digital marketing professional\, speaker\, and consultant with over 15 years of experience developing online solutions for such brands as The Academy Awards\, IMDB\, AAMCO\, Mayo Clinic\, Bridgestone Tires\, MasterBrand\, and Lockheed Martin.  He began his digital marketing career helping music executives and record labels leverage social media to grow merchandising and ticket sales for globally known musicians and music festivals.  Estabrook has also worked for advertising agencies in New York City and DC\, where his work in digital media took him to clients in the Middle-East\, Europe\, and across North America. \nToday\, Estabrook is the Digital Marketing Manager at OFS.  He also is the owner of Estabrook Digital\, a digital marketing consultancy business.  He holds a bachelor of arts from Indiana University with a focus on Communication and Media Studies\, and a master’s of Communication Studies from Ball State University. \nAdvanced reservations are required to get the link to the call.  Reservations should be made by calling the Jasper Chamber of Commerce at 812-482-6866 or by emailing chamber@jasperin.org by Monday\, April 19.  The link to the meeting will then be emailed to all participants prior to the call on April 21.   \nThe mission of Women Empowering Women is to inspire women in business to reach their highest potential by instilling confidence\, building networks\, and promoting community in Dubois County.  Member is open to any woman in business who lives or works in Dubois County. \nFor more information about WEW and to access a membership application\, visit the organizations’ Facebook page or contact the Jasper Chamber of Commerce. \n 
URL:https://jasperin.org/event/women-empowering-women-april-event/
LOCATION:IN
END:VEVENT
END:VCALENDAR