BEGIN:VCALENDAR
VERSION:2.0
PRODID:-//Jasper Chamber of Commerce - ECPv6.15.20//NONSGML v1.0//EN
CALSCALE:GREGORIAN
METHOD:PUBLISH
X-ORIGINAL-URL:https://jasperin.org
X-WR-CALDESC:Events for Jasper Chamber of Commerce
REFRESH-INTERVAL;VALUE=DURATION:PT1H
X-Robots-Tag:noindex
X-PUBLISHED-TTL:PT1H
BEGIN:VTIMEZONE
TZID:America/Indiana/Indianapolis
BEGIN:DAYLIGHT
TZOFFSETFROM:-0500
TZOFFSETTO:-0400
TZNAME:EDT
DTSTART:20200308T070000
END:DAYLIGHT
BEGIN:STANDARD
TZOFFSETFROM:-0400
TZOFFSETTO:-0500
TZNAME:EST
DTSTART:20201101T060000
END:STANDARD
BEGIN:DAYLIGHT
TZOFFSETFROM:-0500
TZOFFSETTO:-0400
TZNAME:EDT
DTSTART:20210314T070000
END:DAYLIGHT
BEGIN:STANDARD
TZOFFSETFROM:-0400
TZOFFSETTO:-0500
TZNAME:EST
DTSTART:20211107T060000
END:STANDARD
BEGIN:DAYLIGHT
TZOFFSETFROM:-0500
TZOFFSETTO:-0400
TZNAME:EDT
DTSTART:20220313T070000
END:DAYLIGHT
BEGIN:STANDARD
TZOFFSETFROM:-0400
TZOFFSETTO:-0500
TZNAME:EST
DTSTART:20221106T060000
END:STANDARD
END:VTIMEZONE
BEGIN:VEVENT
DTSTART;TZID=America/Indiana/Indianapolis:20210423T090000
DTEND;TZID=America/Indiana/Indianapolis:20210423T090000
DTSTAMP:20260424T060551
CREATED:20210419T154226Z
LAST-MODIFIED:20210419T154226Z
UID:10113-1619168400-1619168400@jasperin.org
SUMMARY:Jasper Chamber's Patoka 2000 Tree Dedication
DESCRIPTION:Jasper Chamber’s Beautification Committee Patoka 2000 Tree Dedication and Blessing for 2021 \n*This is a week earlier than Arbor Day this year. \nLocation:  Property of Ann & Mike Shappard and Ray Lechner at 433 Lechner Lane in Jasper (Precious Blood area) \nMayor Vonderheide has been invited to say a few words.  Mike Dooley will give some details on the Catalpa Tree.  The family is welcome to say a few words about the history of This Tree.  Father Eugene Schmitt will be on hand for a blessing.  The dedication plaque will be placed near the base of the tree.
URL:https://jasperin.org/event/jasper-chambers-patoka-2000-tree-dedication/
LOCATION:IN
END:VEVENT
END:VCALENDAR