BEGIN:VCALENDAR
VERSION:2.0
PRODID:-//Jasper Chamber of Commerce - ECPv6.15.20//NONSGML v1.0//EN
CALSCALE:GREGORIAN
METHOD:PUBLISH
X-ORIGINAL-URL:https://jasperin.org
X-WR-CALDESC:Events for Jasper Chamber of Commerce
REFRESH-INTERVAL;VALUE=DURATION:PT1H
X-Robots-Tag:noindex
X-PUBLISHED-TTL:PT1H
BEGIN:VTIMEZONE
TZID:America/Indiana/Indianapolis
BEGIN:DAYLIGHT
TZOFFSETFROM:-0500
TZOFFSETTO:-0400
TZNAME:EDT
DTSTART:20210314T070000
END:DAYLIGHT
BEGIN:STANDARD
TZOFFSETFROM:-0400
TZOFFSETTO:-0500
TZNAME:EST
DTSTART:20211107T060000
END:STANDARD
BEGIN:DAYLIGHT
TZOFFSETFROM:-0500
TZOFFSETTO:-0400
TZNAME:EDT
DTSTART:20220313T070000
END:DAYLIGHT
BEGIN:STANDARD
TZOFFSETFROM:-0400
TZOFFSETTO:-0500
TZNAME:EST
DTSTART:20221106T060000
END:STANDARD
BEGIN:DAYLIGHT
TZOFFSETFROM:-0500
TZOFFSETTO:-0400
TZNAME:EDT
DTSTART:20230312T070000
END:DAYLIGHT
BEGIN:STANDARD
TZOFFSETFROM:-0400
TZOFFSETTO:-0500
TZNAME:EST
DTSTART:20231105T060000
END:STANDARD
END:VTIMEZONE
BEGIN:VEVENT
DTSTART;TZID=America/Indiana/Indianapolis:20220324T083000
DTEND;TZID=America/Indiana/Indianapolis:20220324T153000
DTSTAMP:20260424T083815
CREATED:20220119T204337Z
LAST-MODIFIED:20220119T205052Z
UID:11528-1648110600-1648135800@jasperin.org
SUMMARY:CIMP One-Day Certification Program
DESCRIPTION:To members of the Jasper Chamber and the business community in Dubois County \nCertified Inclusion Management Practitioner™ (CIMP™)  \nOne-Day Certification Program \nThe CIMP™ program was created by Maura G. Robinson\, MPA\, President of Inclusion and Beyond\, Inc.\, \nIntercultural Development Administrator and creator and author of the Inclusion Revolution Is Now Framework.  \nMaura has revolutionized  the business world with her contemporary approach\, research and work on Diversity\, \nequity\, inclusion and belonging.  Her work has influenced organizations large and small \nto impact positive changes and create organizational transformations. \n  \nThe Inclusion Revolution Is Now framework is the main structure for this certification program. It will equip participants with positive tangible DEIB values. \nEarning a CIPM™ demonstrates the participant’s aptitude as a practitioner and agent of change. \nIt will reflect the achievement – commitment to excellence\, as well as diversity\, equity and inclusion values. \n  \nEarning and maintaining your CIMP™ \n\nBuilds a broader knowledge regarding inclusion in a new and revolutionary way that goes beyond training.\nIncreases intercultural awareness\nGains skills to lead others to successful DEI efforts\nIdentify best practices when presenting DEI alternatives\nProvides new career opportunities and a competitive advantage over applicants without this type of certification.\nMoves from just learning concepts of DEI to implementing tangible DEI changes.\n\n  \nThe one-day \nCIMP™ program is divided in modules: \n\nDEI as a powerful tool for organizational success.\nOrganizational Stages of Growth and Development Tool Assessment and its impact on recruitment/retention\, social justice and systemic racism\nHow our brain understands differences using the Discomfort Model\, and\nHow to build and sustain a diverse supplier program and create positive changes through intentional DEI exposure.\n\n  \nCost: for a one-day CIMP™ Certification Program:  $1\,500.00 per person (Capacity is limited\, please register early) \nTime:  8:30 a.m. to 3:30 p.m. with a working luncheon \nDate:  March 24\, 2022 \nWhere:  Jasper Train Depot -201 Mill Street –Jasper\, IN 47546 \n*The CIMP™ one-day program will be hosted in person but will follow CDC COVID 19 guidelines and will provided it  virtually via Zoom if applicable. \nFor additional Information or to register\, please contact maura@inclusionandbeyond.com or at 812-457-8423. \n  \nHere is the link for registration and payment \nCIMP One day Program JCC  \n  \nThis program is in partnership with: \nThe Jasper Chamber of Commerce \n 
URL:https://jasperin.org/event/cimp-one-day-certification-program/
LOCATION:Jasper Train Depot\, 201 Mill St.\, Jasper\, IN\, 47546\, United States
CATEGORIES:Certification Program
END:VEVENT
END:VCALENDAR