BEGIN:VCALENDAR
VERSION:2.0
PRODID:-//Jasper Chamber of Commerce - ECPv6.15.20//NONSGML v1.0//EN
CALSCALE:GREGORIAN
METHOD:PUBLISH
X-ORIGINAL-URL:https://jasperin.org
X-WR-CALDESC:Events for Jasper Chamber of Commerce
REFRESH-INTERVAL;VALUE=DURATION:PT1H
X-Robots-Tag:noindex
X-PUBLISHED-TTL:PT1H
BEGIN:VTIMEZONE
TZID:America/Indiana/Indianapolis
BEGIN:DAYLIGHT
TZOFFSETFROM:-0500
TZOFFSETTO:-0400
TZNAME:EDT
DTSTART:20160313T070000
END:DAYLIGHT
BEGIN:STANDARD
TZOFFSETFROM:-0400
TZOFFSETTO:-0500
TZNAME:EST
DTSTART:20161106T060000
END:STANDARD
BEGIN:DAYLIGHT
TZOFFSETFROM:-0500
TZOFFSETTO:-0400
TZNAME:EDT
DTSTART:20170312T070000
END:DAYLIGHT
BEGIN:STANDARD
TZOFFSETFROM:-0400
TZOFFSETTO:-0500
TZNAME:EST
DTSTART:20171105T060000
END:STANDARD
BEGIN:DAYLIGHT
TZOFFSETFROM:-0500
TZOFFSETTO:-0400
TZNAME:EDT
DTSTART:20180311T070000
END:DAYLIGHT
BEGIN:STANDARD
TZOFFSETFROM:-0400
TZOFFSETTO:-0500
TZNAME:EST
DTSTART:20181104T060000
END:STANDARD
BEGIN:DAYLIGHT
TZOFFSETFROM:-0500
TZOFFSETTO:-0400
TZNAME:EDT
DTSTART:20190310T070000
END:DAYLIGHT
BEGIN:STANDARD
TZOFFSETFROM:-0400
TZOFFSETTO:-0500
TZNAME:EST
DTSTART:20191103T060000
END:STANDARD
END:VTIMEZONE
BEGIN:VEVENT
DTSTART;TZID=America/Indiana/Indianapolis:20180802T170000
DTEND;TZID=America/Indiana/Indianapolis:20180805T170000
DTSTAMP:20260419T103101
CREATED:20160609T191624Z
LAST-MODIFIED:20180412T191012Z
UID:958-1533229200-1533488400@jasperin.org
SUMMARY:Jasper Strassenfest
DESCRIPTION:The 40th annual Jasper Stassenfest will be held Thursday\, August 2nd through Sunday\, August 5th\, 2018. \nWelcome to Jasper Indiana\, home to the annual Jasper Strassenfest. \nPeople fill our city streets to pay tribute to our German Heritage with a four day street festival. \nThe Jasper Strassenfest has everything from carnival rides and games\, thrilling events and loads of entertainment on three downtown stages. Thirsty?  We can take care of you at our beer garden or our food and drink booths. \nBrats\, lederhosen\, polka music and parades are just some of what you will experience at the annual Jasper Strassenfest.  Known as one of Indiana’s finest festivals and recently featured on the front cover of the Indiana Festival Guide\, the Jasper Strassenfest is a family friendly street festival celebrating the area’s rich German heritage.  Features include Parades\, an open-air Biergarten (beer garden)\, Polka Masses\, Arts Festival\, carnival rides\, hot air balloon race\, Autolauf scavenger hunt\, a variety of musical entertainment and performances and dozens of unique events for youngsters and those young at heart.  Bring your appetite for the variety of food vendors!  This annual\, well-known German festival celebrates Jasper’s German heritage and is known for its great food and lively atmosphere. \nMake plans today to attend the 40th annual Jasper Strassenfest.  Download the Strassenfest App and visit the website at http://www.jasperstrassenfest.org
URL:https://jasperin.org/event/jasper-strassenfest/
LOCATION:Courthouse Square\, 1 Courthouse Square\, Jasper\, IN\, 47546\, United States
CATEGORIES:Festival
ATTACH;FMTTYPE=image/jpeg:https://jasperin.org/wp-content/uploads/2016/06/Strassenfest-Buttons-2018.jpg
END:VEVENT
BEGIN:VEVENT
DTSTART;TZID=America/Indiana/Indianapolis:20171201T080000
DTEND;TZID=America/Indiana/Indianapolis:20171203T170000
DTSTAMP:20260419T103101
CREATED:20171114T174633Z
LAST-MODIFIED:20171115T094924Z
UID:1335-1512115200-1512320400@jasperin.org
SUMMARY:O'Tannenbaum Days 2017
DESCRIPTION:O’Tannenbaum Days events will be held on December 1\, 2\, & 3. \nPlease keep local businesses and authentic art alive in Jasper\, Indiana. You are encouraged to support locally and independently owned businesses while enjoying the great festivities of O’Tannenbaum Days!  Services provided by Greater Downtown Jasper Business Association\, Jasper Chamber of Commerce\, and Dubois County Visitors Center. \nView all the details in the O’Tannenbaum Days Flyer. \n  \n 
URL:https://jasperin.org/event/otannenbaum-days-2017/
CATEGORIES:Festival
END:VEVENT
END:VCALENDAR