BEGIN:VCALENDAR
VERSION:2.0
PRODID:-//Jasper Chamber of Commerce - ECPv6.15.20//NONSGML v1.0//EN
CALSCALE:GREGORIAN
METHOD:PUBLISH
X-WR-CALNAME:Jasper Chamber of Commerce
X-ORIGINAL-URL:https://jasperin.org
X-WR-CALDESC:Events for Jasper Chamber of Commerce
REFRESH-INTERVAL;VALUE=DURATION:PT1H
X-Robots-Tag:noindex
X-PUBLISHED-TTL:PT1H
BEGIN:VTIMEZONE
TZID:America/Indiana/Indianapolis
BEGIN:DAYLIGHT
TZOFFSETFROM:-0500
TZOFFSETTO:-0400
TZNAME:EDT
DTSTART:20170312T070000
END:DAYLIGHT
BEGIN:STANDARD
TZOFFSETFROM:-0400
TZOFFSETTO:-0500
TZNAME:EST
DTSTART:20171105T060000
END:STANDARD
BEGIN:DAYLIGHT
TZOFFSETFROM:-0500
TZOFFSETTO:-0400
TZNAME:EDT
DTSTART:20180311T070000
END:DAYLIGHT
BEGIN:STANDARD
TZOFFSETFROM:-0400
TZOFFSETTO:-0500
TZNAME:EST
DTSTART:20181104T060000
END:STANDARD
BEGIN:DAYLIGHT
TZOFFSETFROM:-0500
TZOFFSETTO:-0400
TZNAME:EDT
DTSTART:20190310T070000
END:DAYLIGHT
BEGIN:STANDARD
TZOFFSETFROM:-0400
TZOFFSETTO:-0500
TZNAME:EST
DTSTART:20191103T060000
END:STANDARD
END:VTIMEZONE
BEGIN:VEVENT
DTSTART;TZID=America/Indiana/Indianapolis:20181004T160000
DTEND;TZID=America/Indiana/Indianapolis:20181004T180000
DTSTAMP:20260422T022441
CREATED:20180830T190831Z
LAST-MODIFIED:20180920T185917Z
UID:2476-1538668800-1538676000@jasperin.org
SUMMARY:Time Out From Business
DESCRIPTION:Sponsor and location:  Legacy Living of Jasper\, Highway 56 West of Jasper \nWhere:  United Methodist Church \nEnjoy an up-close\, first-hand look of our construction site and progress with 4×4 and UTV tours. \n4×4 tours provided by Uebelhor  & Sons and UTV tours provided by Hopf Outdoor Power with food provided by The Schnitzelbank.  Love the vehicle you toured in?  Old National Bank subject matter experts will be on site to discuss financing options. \n 
URL:https://jasperin.org/event/time-out-from-business-2/
LOCATION:IN
END:VEVENT
BEGIN:VEVENT
DTSTART;TZID=America/Indiana/Indianapolis:20181017T113000
DTEND;TZID=America/Indiana/Indianapolis:20181017T130000
DTSTAMP:20260422T022441
CREATED:20180619T155346Z
LAST-MODIFIED:20180830T190504Z
UID:2061-1539775800-1539781200@jasperin.org
SUMMARY:Jasper Chamber Annual Meeting
DESCRIPTION:Speaker:  NSWC Commanding Officer CAPT Mark Oesterreich \nInvitations going out in mid-September
URL:https://jasperin.org/event/jasper-chamber-annual-meeting/
LOCATION:KlubHaus 61\, 2031 Newton St\, Jasper\, IN\, 47546\, United States
END:VEVENT
BEGIN:VEVENT
DTSTART;TZID=America/Indiana/Indianapolis:20181025T170000
DTEND;TZID=America/Indiana/Indianapolis:20181025T190000
DTSTAMP:20260422T022441
CREATED:20180809T190323Z
LAST-MODIFIED:20180809T190323Z
UID:2363-1540486800-1540494000@jasperin.org
SUMMARY:Launching Your Business Seminar
DESCRIPTION:Partner/Presenter:  Small Business Development Center \nCost:  TBD (Approximately $30/person) \nLocation:  TBA
URL:https://jasperin.org/event/launching-your-business-seminar/
LOCATION:IN
END:VEVENT
END:VCALENDAR