BEGIN:VCALENDAR
VERSION:2.0
PRODID:-//Jasper Chamber of Commerce - ECPv6.15.20//NONSGML v1.0//EN
CALSCALE:GREGORIAN
METHOD:PUBLISH
X-WR-CALNAME:Jasper Chamber of Commerce
X-ORIGINAL-URL:https://jasperin.org
X-WR-CALDESC:Events for Jasper Chamber of Commerce
REFRESH-INTERVAL;VALUE=DURATION:PT1H
X-Robots-Tag:noindex
X-PUBLISHED-TTL:PT1H
BEGIN:VTIMEZONE
TZID:America/Indiana/Indianapolis
BEGIN:DAYLIGHT
TZOFFSETFROM:-0500
TZOFFSETTO:-0400
TZNAME:EDT
DTSTART:20190310T070000
END:DAYLIGHT
BEGIN:STANDARD
TZOFFSETFROM:-0400
TZOFFSETTO:-0500
TZNAME:EST
DTSTART:20191103T060000
END:STANDARD
BEGIN:DAYLIGHT
TZOFFSETFROM:-0500
TZOFFSETTO:-0400
TZNAME:EDT
DTSTART:20200308T070000
END:DAYLIGHT
BEGIN:STANDARD
TZOFFSETFROM:-0400
TZOFFSETTO:-0500
TZNAME:EST
DTSTART:20201101T060000
END:STANDARD
BEGIN:DAYLIGHT
TZOFFSETFROM:-0500
TZOFFSETTO:-0400
TZNAME:EDT
DTSTART:20210314T070000
END:DAYLIGHT
BEGIN:STANDARD
TZOFFSETFROM:-0400
TZOFFSETTO:-0500
TZNAME:EST
DTSTART:20211107T060000
END:STANDARD
END:VTIMEZONE
BEGIN:VEVENT
DTSTART;TZID=America/Indiana/Indianapolis:20200303T140000
DTEND;TZID=America/Indiana/Indianapolis:20200303T140000
DTSTAMP:20260421T064350
CREATED:20200213T202712Z
LAST-MODIFIED:20200217T190428Z
UID:5435-1583244000-1583244000@jasperin.org
SUMMARY:Ribbon Cutting - WorkOne Office
DESCRIPTION:JOIN THE JASPER CHAMBER as we welcome this business to Jasper – in a new location! \nLocated at 850 College Avenue at VUJ Administration Office – Room #226 \n 
URL:https://jasperin.org/event/ribbon-cutting-workone-office/
LOCATION:Vincennes University\, Jasper Campus\, 850 College Ave\, Jasper\, IN\, 47546\, United States
END:VEVENT
BEGIN:VEVENT
DTSTART;TZID=America/Indiana/Indianapolis:20200311T110000
DTEND;TZID=America/Indiana/Indianapolis:20200311T110000
DTSTAMP:20260421T064350
CREATED:20200224T162306Z
LAST-MODIFIED:20200224T162306Z
UID:5561-1583924400-1583924400@jasperin.org
SUMMARY:Ribbon Cutting - Legacy Living of Jasper
DESCRIPTION:JOIN THE JASPER CHAMBER as we welcome this New Business to Jasper! \nLegacy Living of Jasper located at 1850 W State Road 56\, Jasper. \n11:00 am Ribbon Cutting followed by a light lunch of soup and sandwiches. \n 
URL:https://jasperin.org/event/ribbon-cutting-legacy-living-of-jasper/
LOCATION:IN
END:VEVENT
BEGIN:VEVENT
DTSTART;TZID=America/Indiana/Indianapolis:20200313T160000
DTEND;TZID=America/Indiana/Indianapolis:20200313T190000
DTSTAMP:20260421T064350
CREATED:20200217T190730Z
LAST-MODIFIED:20200217T190730Z
UID:5490-1584115200-1584126000@jasperin.org
SUMMARY:Ribbon Cutting - Restoring Life
DESCRIPTION:JOIN THE JASPER CHAMBER as we welcome this new business to Jasper! \nRestoring Life Chiropractic Office @ 671 3rd Avenue (behind Giesler Dental). \n4:00 PM Ribbon Cutting followed by an Open House until 7:00 PM
URL:https://jasperin.org/event/ribbon-cutting-restoring-life/
LOCATION:IN
END:VEVENT
BEGIN:VEVENT
DTSTART;TZID=America/Indiana/Indianapolis:20200324T120000
DTEND;TZID=America/Indiana/Indianapolis:20200324T120000
DTSTAMP:20260421T064350
CREATED:20200304T193151Z
LAST-MODIFIED:20200316T185416Z
UID:5638-1585051200-1585051200@jasperin.org
SUMMARY:Ribbon Cutting - Genoa Healthcare
DESCRIPTION:JOIN THE JASPER CHAMBER as we welcome this new business to Jasper! \nGenoa Healthcare (a pharmacy inside LifeSpring Health Systems) \nLocated at 480 Eversman Drive \nTHIS RIBBON CUTTING HAS BEEN POSTPONED – WE WILL LET YOU KNOW THE RESCHEDULED DATE \n 
URL:https://jasperin.org/event/ribbon-cutting-genoa-healthcare/
LOCATION:IN
END:VEVENT
BEGIN:VEVENT
DTSTART;TZID=America/Indiana/Indianapolis:20200328T100000
DTEND;TZID=America/Indiana/Indianapolis:20200328T100000
DTSTAMP:20260421T064350
CREATED:20200224T201227Z
LAST-MODIFIED:20200317T194805Z
UID:5563-1585389600-1585389600@jasperin.org
SUMMARY:Ribbon Cutting - KOHL'S
DESCRIPTION:JOIN THE JASPER CHAMBER as we welcome this new business to Jasper! \nKOHL’S located at 3875  N Newton Street\, Jasper \nRibbon Cutting at 10:00 AM \nTHE RIBBON CUTTING & GRAND OPENING HAVE BEEN POSTPONED FOR NOW.  MORE DETAILS AT A LATER DATE. 
URL:https://jasperin.org/event/ribbon-cutting-kohls/
LOCATION:IN
END:VEVENT
BEGIN:VEVENT
DTSTART;TZID=America/Indiana/Indianapolis:20200331T113000
DTEND;TZID=America/Indiana/Indianapolis:20200331T130000
DTSTAMP:20260421T064350
CREATED:20200129T151650Z
LAST-MODIFIED:20200317T151028Z
UID:5286-1585654200-1585659600@jasperin.org
SUMMARY:2020 State of Addresses
DESCRIPTION:PRESENTERS INVITED TO PARTICIPATE: \nDubois County Council President Jerry Hunefeld\, Dubois County Commissioners President Nick Hostetter\, Greater Jasper Schools Superintendent Dr. Tracy Lorey\, and Jasper Mayor Dean Vonderheide. \nAuditorium in the CTIM Building at VUJC \nTake some time to come out and learn what is happening in the areas of county government\, schools\, and city government. \n$10 fee/person to cover the cost of the lunch. \nRSVP by March 27th:  Let us know if you will attend:  812-482-6866 or chamber @jasperin.org \nCANCELLED/POSTPONED FOR NOW
URL:https://jasperin.org/event/2020-state-of-addresses/
LOCATION:Vincennes University\, Jasper Campus\, 850 College Ave\, Jasper\, IN\, 47546\, United States
END:VEVENT
END:VCALENDAR