BEGIN:VCALENDAR
VERSION:2.0
PRODID:-//Jasper Chamber of Commerce - ECPv6.15.20//NONSGML v1.0//EN
CALSCALE:GREGORIAN
METHOD:PUBLISH
X-WR-CALNAME:Jasper Chamber of Commerce
X-ORIGINAL-URL:https://jasperin.org
X-WR-CALDESC:Events for Jasper Chamber of Commerce
REFRESH-INTERVAL;VALUE=DURATION:PT1H
X-Robots-Tag:noindex
X-PUBLISHED-TTL:PT1H
BEGIN:VTIMEZONE
TZID:America/Indiana/Indianapolis
BEGIN:DAYLIGHT
TZOFFSETFROM:-0500
TZOFFSETTO:-0400
TZNAME:EDT
DTSTART:20190310T070000
END:DAYLIGHT
BEGIN:STANDARD
TZOFFSETFROM:-0400
TZOFFSETTO:-0500
TZNAME:EST
DTSTART:20191103T060000
END:STANDARD
BEGIN:DAYLIGHT
TZOFFSETFROM:-0500
TZOFFSETTO:-0400
TZNAME:EDT
DTSTART:20200308T070000
END:DAYLIGHT
BEGIN:STANDARD
TZOFFSETFROM:-0400
TZOFFSETTO:-0500
TZNAME:EST
DTSTART:20201101T060000
END:STANDARD
BEGIN:DAYLIGHT
TZOFFSETFROM:-0500
TZOFFSETTO:-0400
TZNAME:EDT
DTSTART:20210314T070000
END:DAYLIGHT
BEGIN:STANDARD
TZOFFSETFROM:-0400
TZOFFSETTO:-0500
TZNAME:EST
DTSTART:20211107T060000
END:STANDARD
END:VTIMEZONE
BEGIN:VEVENT
DTSTART;TZID=America/Indiana/Indianapolis:20200707T120000
DTEND;TZID=America/Indiana/Indianapolis:20200707T120000
DTSTAMP:20260421T140617
CREATED:20200622T181508Z
LAST-MODIFIED:20200622T181508Z
UID:6405-1594123200-1594123200@jasperin.org
SUMMARY:Grow Your Business:  Tips on Building Relationships - Seminar
DESCRIPTION:NEW FROM THE JASPER CHAMBER:    A Seminar  –  Grow Your Business: Tips on Building Relationships \nUpcoming Seminar from the Jasper Chamber – Tuesday\, July 7th \n12 NOON (EST) – see registration details below (via eventbrite) \nFree Seminar  \nBestselling author Chip Helm knows that sales is all about building relationships. \nLearn how to build those relationships for your business. \nAbout this Event  \nEvery day you encounter a sales opportunity and chance to grow \nboth as an individual and as an organization. This workshop will help you \nstart to change your conversations and find new ways to  \ncreate and develop relationships to build new opportunities. \nLed by instructor Chip Helm\, Chip has over 34 years of experience \nin the medical sales field. \nYou will learn strategies that help you: \n\nRethink your everyday conversations to foster growth opportunities\nBuild relationships both personally and professionally\nCreate a plan to approach conversations as sales opportunities\nStart to think of your conversations as a time to build your personal brand\n\nFREE SEMINAR – – NO CHARGE TO ATTEND/PARTICIPATE \nREGISTRATION INFORMATION \nHere’s the link to the Eventbrite Invitation: \nhttps://grow_your_business_relationships.eventbrite.com \nTo join SBDC at no cost\, contact Steve Bryant at Ivy Tech Bloomington’s Cook Center for Entrepreneurship at sbryant32@ivytech.edu. \nLearn more about Ivy Tech business and entrepreneurship academic programs at ivytech.edu/business-admin and ivytech.edu/study-entrepreneurship. \nLearn more about SBDC at isbdc.org. \nAbout Chip Helm \nOver 34 years ago\, life experiences led Chip Helm to a new opportunity in the sales world \nwhere he quickly realized sales were not about contracts and figures\, \nbut instead were about relationships and conversations. \nChip’s workshop will help mentor others into seeing sales in a new way. \nIn addition to over 34 years of professional relationship-building\, \nChip holds a BA in biology from Indiana University and an MBA from the \nUniversity of South Florida. He is a bestselling author of two books. \nOrganizer Gayle & Bill Cook Center for Entrepreneurship  \nOrganizer of Grow Your Business: Tips on Building Relationships \nThe Gayle & Bill Cook Center for Entrepreneurship at Ivy Tech Community College Bloomington \nprovides practical tools to help entrepreneurs of south central Indiana start and grow businesses. \nFounded in 2010 to honor one of the regions’ most successful entrepreneurs\, Bill Cook\, \nthe Cook Center embodies Mr. Cook’s philosophy of ‘ready\, fire\, aim’ entrepreneurship \nby giving students and others the skills and resources they need to start businesses. \n  \n  \n 
URL:https://jasperin.org/event/grow-your-business-tips-on-building-relationships-seminar/
LOCATION:IN
END:VEVENT
BEGIN:VEVENT
DTSTART;TZID=America/Indiana/Indianapolis:20200708T114500
DTEND;TZID=America/Indiana/Indianapolis:20200708T124500
DTSTAMP:20260421T140617
CREATED:20200122T174238Z
LAST-MODIFIED:20200701T191821Z
UID:5225-1594208700-1594212300@jasperin.org
SUMMARY:Women Empowering Women Session
DESCRIPTION:Martha Rasche on Writing Your Life Story\n \nThe Dubois County women’s leadership organization\, Women Empowering Women (WEW)\, will host its next event\, virtually\, on Wednesday\, July 8 to hear Martha Rasche speak on writing your life story.  The session will be held via the Zoom webinar platform and begin at 11:45 am.  This event is open to all prospective and current WEW members.   \nHow much do you know about your grandmother’s childhood?  What would it be worth to you to know more?  As we live through the coronavirus pandemic\, how much would your grandchildren and great-grandchildren appreciate knowing how this historic event affected your day-to-day life?  After a 25 year career as a newspaper writer and editor at The Herald and in northern Indiana\, Martha Rasche started helping others to write their everyday life stories in 2014.  Since then she has worked one-on-one with individuals to compile their life stories\, and dozens more have taken her eight-week classes to write their own.  If Martha’s presentation doesn’t inspire you to write your own stories\, it certainly will make you realize the importance of getting your parents’ and grandparents’ stories in writing before they are lost forever. \nAdvanced reservations are required in order to get the link to the call.  Reservations should be made by calling the Jasper Chamber of Commerce at 812-482-6866 or by emailing chamber@jasperin.org by Monday\, July 6.  The link to the meeting will then be emailed to all participants prior to the call on July 8.   \nThe mission of Women Empowering Women is to inspire women in business to reach their highest potential by instilling confidence\, building networks\, and promoting community in Dubois County.  Membership is open to any woman in business who lives or works in Dubois County. \nFor more information about WEW and to access a membership application\, visit the organizations’ Facebook page or contact the Jasper Chamber of Commerce. \n 
URL:https://jasperin.org/event/women-empowering-women-session-2/
LOCATION:IN
END:VEVENT
BEGIN:VEVENT
DTSTART;TZID=America/Indiana/Indianapolis:20200713T113000
DTEND;TZID=America/Indiana/Indianapolis:20200713T123000
DTSTAMP:20260421T140617
CREATED:20200618T194859Z
LAST-MODIFIED:20200618T194859Z
UID:6377-1594639800-1594643400@jasperin.org
SUMMARY:Embracing & Navigating Change:  Virtual Masterclass
DESCRIPTION:Embracing & Navigating Change: Virtual Masterclass  \nRight now\, we are in uncertain times\, and that uncertainty can create heightened anxiety\, fear and chaos. However\, it’s the individuals and organizations that use this time to turn inward and embrace change that will come out ahead. Instead of looking at uncertainty as a time to shrink and be fearful\, you can look at uncertainty as a time to expand and be open to possibility. It’s time to step into your power. It’s time to embrace and navigate change. \nIn this workshop\, Vitale will take you through her three-step process for embracing change: Awareness\, Perspective and Action. You will become aware of your triggers and your resistance to change\, then you will learn the mindset techniques to shift out of fear into power\, and finally the tools you need to take massive action and find alignment during this time. \nYou will leave this online workshop with the confidence and tools to be the most powerful version of yourself. You will become a leader in embracing and navigating change. \nDate: Monday\, July 13\, 2020 \nTime: 11:30 am – 12:30 pm EST \nZoom Registration Link: \nRegister in advance for this meeting: \nhttps://us02web.zoom.us/meeting/register/tZUofu2qrT8qH9ZBIOqiw0SwsvtiwLa38_JQ \nAfter registering\, you will receive a confirmation email containing information about joining the meeting. \nAbout Vitale Buford \nA change agent transforming organizations\, groups\, and individuals\, Vitale Buford is an iPEC-certified executive coach\, international speaker\, and author. Featured in The New York Times\, she is the author of the book\, Addicted to Perfect\, detailing her 10-year struggle with Adderall and perfectionism. Vitale’s experience includes more than a decade working in marketing and business development for a variety of industries and professional service organizations. She brings her personal experience\, professional education and training\, and her specialized healing techniques together to create a unique coaching system – one that gets to the root of the issue to bring about lasting and real change. Vitale lives in Central Kentucky with her son and their dog. You can learn more about her and how she changes lives at vitalebuford.com. \n 
URL:https://jasperin.org/event/embracing-navigating-change-virtual-masterclass/
LOCATION:IN
END:VEVENT
BEGIN:VEVENT
DTSTART;TZID=America/Indiana/Indianapolis:20200717T053000
DTEND;TZID=America/Indiana/Indianapolis:20200717T083000
DTSTAMP:20260421T140617
CREATED:20200623T143114Z
LAST-MODIFIED:20200623T143114Z
UID:6416-1594963800-1594974600@jasperin.org
SUMMARY:2020 Health Screening
DESCRIPTION:2020 Health Screening Information \nFriday\, July 17\, 2020 from 5:45 a.m.—8:30 a.m. \nMemorial Southside Office—1100 West 12th Avenue\, Jasper\, IN 47546  \n\n Blood Cholesterol (Total Cholesterol\, HDL\, LDL\, Triglycerides\, Cholesterol Ratio)\n Blood Pressure\n Height and Weight\n Waist Circumference\n BMI (Body Mass Index)\n Blood Glucose\n Chemistry panel\n Tobacco Status\n Colon Cancer detection take-home kits\, optional for those over age 50\n PSA (blood draw)\, optional for men 50 and older or those with a risk for prostate cancer\n\n\nCOST: \nBasic Screening: $39 \nPSA blood test: $20 (optional for men.) \nColon Cancer detection kits: $8 (optional).  \nREGISTER: Sign up online by using the following link: \nwww.mhhcc.org/JasperChamberSummer2020 \n  \nAppointments will be made every 15 minutes. \nTwelve (12) hour fast is needed for blood work. \nYou may drink water and take prescribed medications. \nBlood is taken by venipuncture.
URL:https://jasperin.org/event/2020-health-screening/
LOCATION:IN
END:VEVENT
BEGIN:VEVENT
DTSTART;TZID=America/Indiana/Indianapolis:20200724T153000
DTEND;TZID=America/Indiana/Indianapolis:20200724T153000
DTSTAMP:20260421T140617
CREATED:20200415T190407Z
LAST-MODIFIED:20200715T153433Z
UID:5927-1595604600-1595604600@jasperin.org
SUMMARY:Ribbon Cutting - Crosby & Drumm
DESCRIPTION:JOIN THE JASPER CHAMBER as we welcome this New Business to Jasper! \nCrosby & Drumm is a Truck Equipment & Accessories\, Welding – Fabrication Company \nLocated at 365 11th Avenue\, Jasper \nRibbon Cutting on Friday\, July 24\, 2020 @ 3:30 pm \n*Please wear a mask and plan to personally distance at the event.
URL:https://jasperin.org/event/ribbon-cutting-crosby-drumm/
LOCATION:IN
END:VEVENT
END:VCALENDAR