BEGIN:VCALENDAR
VERSION:2.0
PRODID:-//Jasper Chamber of Commerce - ECPv6.15.20//NONSGML v1.0//EN
CALSCALE:GREGORIAN
METHOD:PUBLISH
X-ORIGINAL-URL:https://jasperin.org
X-WR-CALDESC:Events for Jasper Chamber of Commerce
REFRESH-INTERVAL;VALUE=DURATION:PT1H
X-Robots-Tag:noindex
X-PUBLISHED-TTL:PT1H
BEGIN:VTIMEZONE
TZID:America/Indiana/Indianapolis
BEGIN:DAYLIGHT
TZOFFSETFROM:-0500
TZOFFSETTO:-0400
TZNAME:EDT
DTSTART:20190310T070000
END:DAYLIGHT
BEGIN:STANDARD
TZOFFSETFROM:-0400
TZOFFSETTO:-0500
TZNAME:EST
DTSTART:20191103T060000
END:STANDARD
BEGIN:DAYLIGHT
TZOFFSETFROM:-0500
TZOFFSETTO:-0400
TZNAME:EDT
DTSTART:20200308T070000
END:DAYLIGHT
BEGIN:STANDARD
TZOFFSETFROM:-0400
TZOFFSETTO:-0500
TZNAME:EST
DTSTART:20201101T060000
END:STANDARD
BEGIN:DAYLIGHT
TZOFFSETFROM:-0500
TZOFFSETTO:-0400
TZNAME:EDT
DTSTART:20210314T070000
END:DAYLIGHT
BEGIN:STANDARD
TZOFFSETFROM:-0400
TZOFFSETTO:-0500
TZNAME:EST
DTSTART:20211107T060000
END:STANDARD
END:VTIMEZONE
BEGIN:VEVENT
DTSTART;TZID=America/Indiana/Indianapolis:20200909T113000
DTEND;TZID=America/Indiana/Indianapolis:20200909T130000
DTSTAMP:20260421T172453
CREATED:20200807T150547Z
LAST-MODIFIED:20200807T150547Z
UID:6774-1599651000-1599656400@jasperin.org
SUMMARY:Personal Branding Conversation Workshop
DESCRIPTION:Bestselling author Chip Helm knows that “Personal Branding” is all about your reputation. \nLearn how to build your brand for your business. \n  \nAbout this Event\nEvery day you encounter a opportunity and chance to grow your personal brand. \nThis workshop will help you start to change your conversations and find new ways \nto create and develop your reputation to build new opportunities. \n  \nLed by instructor Chip Helm\, Chip has over 34 years of experience in the \nmedical sales field you will learn strategies that help you: \n\nRethink your everyday conversations to foster growth opportunities\nBuild relationships both personally and professionally\nCreate a plan to approach conversations as sales opportunities\nStart to think of your conversations as a time to build your personal brand\n\n  \nHosted by the Jasper Chamber of Commerce and the Indiana Small Business Development Center\, \nthis workshop can help any business affected by COVID-19 rebuild vital industry and customer  \nrelationships . There is no charge to attend/ZOOM this event. \n  \nWEDNESDAY\, SEPTEMBER 9\, 2020  –  11:30 a.m. until 1:00 p.m. \n  \nREGISTRATION LINK: \nhttps://personal-branding-2020.eventbrite.com \n  \n 
URL:https://jasperin.org/event/personal-branding-conversation-workshop/
LOCATION:IN
END:VEVENT
BEGIN:VEVENT
DTSTART;TZID=America/Indiana/Indianapolis:20200924T113000
DTEND;TZID=America/Indiana/Indianapolis:20200924T113000
DTSTAMP:20260421T172453
CREATED:20200910T144650Z
LAST-MODIFIED:20200910T144826Z
UID:7286-1600947000-1600947000@jasperin.org
SUMMARY:Thryv Webinar-Growing and Building Customer Relationships
DESCRIPTION:The Jasper Chamber is pleased to present this terrific seminar “Zoom Style” of course! \nToday’s modern consumer has high expectations when it comes to doing business.  Think about the Amazon effect-the demand for instant\, exceptional experiences has never been higher.  Unfortunately\, small businesses can get lost trying to keep up. \nIn this webinar\, you’ll learn 6 simple ways to surprise and delight your customers and build long-lasting relationships (and referrals) along the way! \nDo Business Easier.  Be easier to do business with.  Get the job.  Manage the job.  Get credit. \nSeptember 24\, 2020 11:30 AM – 12:15 PM \nGuest Speaker:  Tara Cabral\, Thryv Business Advisor \nRegister Online:  https://thryv.biz/3ISG8O0 \n  \n 
URL:https://jasperin.org/event/thryv-webinar-growing-and-building-customer-relationships/
LOCATION:IN
END:VEVENT
END:VCALENDAR