BEGIN:VCALENDAR
VERSION:2.0
PRODID:-//Jasper Chamber of Commerce - ECPv6.15.20//NONSGML v1.0//EN
CALSCALE:GREGORIAN
METHOD:PUBLISH
X-ORIGINAL-URL:https://jasperin.org
X-WR-CALDESC:Events for Jasper Chamber of Commerce
REFRESH-INTERVAL;VALUE=DURATION:PT1H
X-Robots-Tag:noindex
X-PUBLISHED-TTL:PT1H
BEGIN:VTIMEZONE
TZID:America/Indiana/Indianapolis
BEGIN:DAYLIGHT
TZOFFSETFROM:-0500
TZOFFSETTO:-0400
TZNAME:EDT
DTSTART:20190310T070000
END:DAYLIGHT
BEGIN:STANDARD
TZOFFSETFROM:-0400
TZOFFSETTO:-0500
TZNAME:EST
DTSTART:20191103T060000
END:STANDARD
BEGIN:DAYLIGHT
TZOFFSETFROM:-0500
TZOFFSETTO:-0400
TZNAME:EDT
DTSTART:20200308T070000
END:DAYLIGHT
BEGIN:STANDARD
TZOFFSETFROM:-0400
TZOFFSETTO:-0500
TZNAME:EST
DTSTART:20201101T060000
END:STANDARD
BEGIN:DAYLIGHT
TZOFFSETFROM:-0500
TZOFFSETTO:-0400
TZNAME:EDT
DTSTART:20210314T070000
END:DAYLIGHT
BEGIN:STANDARD
TZOFFSETFROM:-0400
TZOFFSETTO:-0500
TZNAME:EST
DTSTART:20211107T060000
END:STANDARD
END:VTIMEZONE
BEGIN:VEVENT
DTSTART;TZID=America/Indiana/Indianapolis:20201010T110000
DTEND;TZID=America/Indiana/Indianapolis:20201010T110000
DTSTAMP:20260421T191656
CREATED:20200930T161635Z
LAST-MODIFIED:20200930T161704Z
UID:7667-1602327600-1602327600@jasperin.org
SUMMARY:Ribbon Cutting - St Benedict's Brew Works
DESCRIPTION:JOIN THE JASPER CHAMBER \nAs we welcome this new business to Jasper! \nLocated at:  275 River Centre Landing \n*MASKS REQUIRED TO ATTEND
URL:https://jasperin.org/event/ribbon-cutting-st-benedicts-brew-works/
LOCATION:IN
END:VEVENT
BEGIN:VEVENT
DTSTART;TZID=America/Indiana/Indianapolis:20201014T160000
DTEND;TZID=America/Indiana/Indianapolis:20201014T200000
DTSTAMP:20260421T191656
CREATED:20200305T193259Z
LAST-MODIFIED:20200910T142949Z
UID:5649-1602691200-1602705600@jasperin.org
SUMMARY:Downtown Chowdown
DESCRIPTION:FOOD TRUCKS ~ FOOD VENDORS ~ FARMERS’ MARKET \nOctober 14 – 4:00-8:00 PM (The second Wednesday of every month) \nFamily fun rain or shine ~ Shops open late \nLook for a list of vendors and maps in local businesses \n#jasperchowdown \nMusic sponsored by:  Smithville \nOn the square in downtown Jasper. \n 
URL:https://jasperin.org/event/downtown-chowdown/
LOCATION:Courthouse Square\, 1 Courthouse Square\, Jasper\, IN\, 47546\, United States
END:VEVENT
BEGIN:VEVENT
DTSTART;TZID=America/Indiana/Indianapolis:20201015T100000
DTEND;TZID=America/Indiana/Indianapolis:20201015T100000
DTSTAMP:20260421T191656
CREATED:20200924T195309Z
LAST-MODIFIED:20200924T195309Z
UID:7508-1602756000-1602756000@jasperin.org
SUMMARY:Ribbon Cutting - The Beauty Bar
DESCRIPTION:JOIN THE JASPER CHAMBER \nAs we welcome this new business to Jasper!  Celebrating their One Year Anniversary!! \nThe Beauty Bar Located at 675 Third Avenue \n*Masks Required to Attend
URL:https://jasperin.org/event/ribbon-cutting-the-beauty-bar/
LOCATION:IN
END:VEVENT
BEGIN:VEVENT
DTSTART;TZID=America/Indiana/Indianapolis:20201015T190000
DTEND;TZID=America/Indiana/Indianapolis:20201015T190000
DTSTAMP:20260421T191656
CREATED:20201013T142954Z
LAST-MODIFIED:20201013T142954Z
UID:7872-1602788400-1602788400@jasperin.org
SUMMARY:Meet The Candidates Forum
DESCRIPTION:Jasper Chamber/Vincennes University-Jasper/Local Media \nJasper Arts Center Auditorium – Jasper\, IN \nVoters in Dubois County will have a chance to hear the candidates running for Dubois County offices present their visions and strategies they propose to achieve that vision. \nCandidates will be interviewed at the podium and questions will be provided by local media.  This is not a debate.  Candidates who are unopposed will have an opportunity only to introduce themselves (3 minutes).  Opposed candidates will introduce themselves (2 minutes) and then have up to three minutes to answer each of three questions asked by moderator Christian Blome\, Dean of VUJ. \nThe event will be broadcast live\, Facebook Live\, recorded for later broadcast\, and also print media will be present. \nThe forum is being sponsored by the Jasper Chamber of Commerce\, Vincennes University-Jasper and local media organizations.  None of those organizations nor the venue have any political opinions. \nThe Campaign Forum will be open only to candidates.  No audience will be allowed.  All candidates will be required to wear a mask upon entry into the Jasper Arts Center and be seated according to social distancing guidelines.  Masks may be removed when at the speaker’s podium.  Campaign materials (signs\, buttons\, clothing\, etc) and active campaigning by candidates and supporters will be prohibited before\, during\, and after the event – anywhere near or on the event premises.  Public cameras and recording devices will also be prohibited during the Forum. \nCandidates who have agreed to participate are running for Circuit Court Judge\, County Council\, County Surveyor\, County Commissioner \n 
URL:https://jasperin.org/event/meet-the-candidates-forum/
LOCATION:Vincennes University\, Jasper Campus\, 850 College Ave\, Jasper\, IN\, 47546\, United States
END:VEVENT
BEGIN:VEVENT
DTSTART;TZID=America/Indiana/Indianapolis:20201016T103000
DTEND;TZID=America/Indiana/Indianapolis:20201016T120000
DTSTAMP:20260421T191656
CREATED:20200924T154350Z
LAST-MODIFIED:20200924T154350Z
UID:7506-1602844200-1602849600@jasperin.org
SUMMARY:Ribbon Cutting - Triple Play
DESCRIPTION:JOIN THE JASPER CHAMBER  \nAs we welcome these new businesses to Downtown Jasper!  We will walk to these three businesses on this day!! \nJO+CO – 10:30 am \nElectric Graffiti Tattoo Studio – 11:00 am \nCleaning Hood Services – 11:30 am \nFriday\, October 16\, 2020 – “Ribbon Cutting Triple Play” \n*Masks Required to Attend
URL:https://jasperin.org/event/ribbon-cutting-triple-play/
LOCATION:IN
END:VEVENT
BEGIN:VEVENT
DTSTART;TZID=America/Indiana/Indianapolis:20201022T050000
DTEND;TZID=America/Indiana/Indianapolis:20201022T050000
DTSTAMP:20260421T191656
CREATED:20201021T193356Z
LAST-MODIFIED:20201021T193356Z
UID:8097-1603342800-1603342800@jasperin.org
SUMMARY:Dunkin' - Jasper Opening!
DESCRIPTION:Dunkin’ – Jasper will be opening on Thursday\, October 22nd at 5:00 am
URL:https://jasperin.org/event/dunkin-jasper-opening/
LOCATION:IN
END:VEVENT
BEGIN:VEVENT
DTSTART;TZID=America/Indiana/Indianapolis:20201028T113000
DTEND;TZID=America/Indiana/Indianapolis:20201028T123000
DTSTAMP:20260421T191656
CREATED:20201021T153514Z
LAST-MODIFIED:20201021T153731Z
UID:8090-1603884600-1603888200@jasperin.org
SUMMARY:Seminar:  "How to keep things safe and secure while working from home."
DESCRIPTION:THE JASPER CHAMBER IS PROUD TO PRESENT ANOTHER GREAT SEMINAR TO OUR MEMBERS AND TO THE BUSINESS COMMUNITY IN DUBOIS COUNTY! \n“How to keep things safe and secure while working from home.  Tips for working from home more securely.” \nSpeaker:  Ray Cline\, Libertas Consulting\, LLC \n*Zoom Call:  Call for Meeting ID
URL:https://jasperin.org/event/seminar-how-to-keep-things-safe-and-secure-while-working-from-home/
LOCATION:IN
END:VEVENT
BEGIN:VEVENT
DTSTART;TZID=America/Indiana/Indianapolis:20201031T180000
DTEND;TZID=America/Indiana/Indianapolis:20201031T200000
DTSTAMP:20260421T191656
CREATED:20201020T142216Z
LAST-MODIFIED:20201020T142216Z
UID:8066-1604167200-1604174400@jasperin.org
SUMMARY:Jasper's Trick or Treating 2020
DESCRIPTION:Only visit houses with porch lights on.
URL:https://jasperin.org/event/jaspers-trick-or-treating-2020/
LOCATION:IN
END:VEVENT
END:VCALENDAR