BEGIN:VCALENDAR
VERSION:2.0
PRODID:-//Jasper Chamber of Commerce - ECPv6.15.20//NONSGML v1.0//EN
CALSCALE:GREGORIAN
METHOD:PUBLISH
X-ORIGINAL-URL:https://jasperin.org
X-WR-CALDESC:Events for Jasper Chamber of Commerce
REFRESH-INTERVAL;VALUE=DURATION:PT1H
X-Robots-Tag:noindex
X-PUBLISHED-TTL:PT1H
BEGIN:VTIMEZONE
TZID:America/Indiana/Indianapolis
BEGIN:DAYLIGHT
TZOFFSETFROM:-0500
TZOFFSETTO:-0400
TZNAME:EDT
DTSTART:20190310T070000
END:DAYLIGHT
BEGIN:STANDARD
TZOFFSETFROM:-0400
TZOFFSETTO:-0500
TZNAME:EST
DTSTART:20191103T060000
END:STANDARD
BEGIN:DAYLIGHT
TZOFFSETFROM:-0500
TZOFFSETTO:-0400
TZNAME:EDT
DTSTART:20200308T070000
END:DAYLIGHT
BEGIN:STANDARD
TZOFFSETFROM:-0400
TZOFFSETTO:-0500
TZNAME:EST
DTSTART:20201101T060000
END:STANDARD
BEGIN:DAYLIGHT
TZOFFSETFROM:-0500
TZOFFSETTO:-0400
TZNAME:EDT
DTSTART:20210314T070000
END:DAYLIGHT
BEGIN:STANDARD
TZOFFSETFROM:-0400
TZOFFSETTO:-0500
TZNAME:EST
DTSTART:20211107T060000
END:STANDARD
END:VTIMEZONE
BEGIN:VEVENT
DTSTART;TZID=America/Indiana/Indianapolis:20201106T153000
DTEND;TZID=America/Indiana/Indianapolis:20201106T153000
DTSTAMP:20260421T210733
CREATED:20201021T193643Z
LAST-MODIFIED:20201021T193643Z
UID:8099-1604676600-1604676600@jasperin.org
SUMMARY:Ribbon Cutting - Top Knot Beauty Studio
DESCRIPTION:JOIN THE JASPER CHAMBER \nAs we welcome this new business to Jasper! \nLocation:  506 Jackson Street\, Downtown Jasper \n*MASKS REQUIRED TO ATTEND
URL:https://jasperin.org/event/ribbon-cutting-top-knot-beauty-studio/
LOCATION:IN
END:VEVENT
BEGIN:VEVENT
DTSTART;TZID=America/Indiana/Indianapolis:20201110T113000
DTEND;TZID=America/Indiana/Indianapolis:20201110T113000
DTSTAMP:20260421T210733
CREATED:20201105T162351Z
LAST-MODIFIED:20201105T162352Z
UID:8344-1605007800-1605007800@jasperin.org
SUMMARY:Women Empowering Women November Event
DESCRIPTION:Women Empowering Women November Event:  Breast Cancer Awareness With Susan G. Komen \nThe Dubois County women’s leadership organization\, Women Empowering Women (WEW)\, will host its next event\, virtually\, on Tuesday\, November 10 to hear Melissa Driskell\, BSN\, RN\, CN-BN with The Women’s Cancer Center.  She will speak on behalf of Susan G. Komen.  The session will be held via the Zoom webinar platform and begin at 11:45 am.  This event is open to all prospective and current WEW members. \nAdvanced reservations are required in order to get the link to the call.  Reservations should be made by calling the Jasper Chamber of Commerce at 812-482-6866 or by emailing chamber@jasperin.org by Friday\, November 6.  The link to the meeting will then be emailed to all participants prior to the call on November 10.   \nThe mission of Women Empowering Women is to inspire women in business to reach their highest potential by instilling confidence\, building networks\, and promoting community in Dubois County.  Member is open to any woman in business who lives or works in Dubois County. \nFor more information about WEW and to access a membership application\, visit the organizations’ Facebook page or contact the Jasper Chamber of Commerce.
URL:https://jasperin.org/event/women-empowering-women-november-event/
LOCATION:IN
END:VEVENT
BEGIN:VEVENT
DTSTART;TZID=America/Indiana/Indianapolis:20201112T123000
DTEND;TZID=America/Indiana/Indianapolis:20201112T123000
DTSTAMP:20260421T210733
CREATED:20201027T143620Z
LAST-MODIFIED:20201027T143620Z
UID:8189-1605184200-1605184200@jasperin.org
SUMMARY:Ribbon Cutting - Carpenter Rentals
DESCRIPTION:JOIN THE JASPER CHAMBER \nAs we welcome this new business to Jasper! \nLocated at:  308 W 6th Street \n*MASKS REQUIRED TO ATTEND
URL:https://jasperin.org/event/ribbon-cutting-carpenter-rentals/
LOCATION:IN
END:VEVENT
BEGIN:VEVENT
DTSTART;TZID=America/Indiana/Indianapolis:20201118T113000
DTEND;TZID=America/Indiana/Indianapolis:20201118T113000
DTSTAMP:20260421T210733
CREATED:20201028T192746Z
LAST-MODIFIED:20201028T192746Z
UID:8229-1605699000-1605699000@jasperin.org
SUMMARY:A Lunch & Learn via Zoom-Mental Health in the Workplace
DESCRIPTION:The Jasper Chamber is so proud to partner with Memorial Hospital to bring this presentation to the business community.  Call the Chamber at 812-482-6866 to receive the link via email to register.  Thanks so much – this is an important topic – we all will learn so much!!\n \nMental Health in the Workplace-Mental Health & Coping during COVID-19-A Lunch & Learn via Zoom with Healther Terwiske\, MSW\, LCSW and Melissa Lueken\, MSW \nMental health issues affect businesses and their employees especially during COVID-19.  Poor mental health and stress can negatively affect employees with job performance and productivity\, engagement\, communication\, and physical capability.  Join via Zoom and listen in as Memorial Hospital’s mental health experts\, Heather and Melissa\, share what employers can do to help their employees in the workplace. \n  \n  \n 
URL:https://jasperin.org/event/a-lunch-learn-via-zoom-mental-health-in-the-workplace/
LOCATION:IN
END:VEVENT
BEGIN:VEVENT
DTSTART;TZID=America/Indiana/Indianapolis:20201125T090000
DTEND;TZID=America/Indiana/Indianapolis:20201207T163000
DTSTAMP:20260421T210733
CREATED:20201123T205850Z
LAST-MODIFIED:20201123T205850Z
UID:8710-1606294800-1607358600@jasperin.org
SUMMARY:Heart of Jasper Presents: Scavenger Hunt
DESCRIPTION:Heart of Jasper Presents: \nHoliday Family Fun SCAVENGER HUNT Jasper\, IN \nNovember 25th-December 7th\, 2020 \nDIRECTIONS: \nLocate images on the Scavenger Hunt Sheet (obtain from Heart of Jasper FB page) & bring answers to the Jasper Chamber = WIN A PRIZE!  *Limited to the first 100* \nStart searching at any time!  Claim prizes at Jasper Chamber of Commerce\, 302 W 6th Street\, Jasper (M-F\, 9 am-4:30 pm)  Visit @Heartof Jasper On Facebook for more information. \n 
URL:https://jasperin.org/event/heart-of-jasper-presents-scavenger-hunt/
LOCATION:IN
END:VEVENT
END:VCALENDAR