BEGIN:VCALENDAR
VERSION:2.0
PRODID:-//Jasper Chamber of Commerce - ECPv6.15.20//NONSGML v1.0//EN
CALSCALE:GREGORIAN
METHOD:PUBLISH
X-WR-CALNAME:Jasper Chamber of Commerce
X-ORIGINAL-URL:https://jasperin.org
X-WR-CALDESC:Events for Jasper Chamber of Commerce
REFRESH-INTERVAL;VALUE=DURATION:PT1H
X-Robots-Tag:noindex
X-PUBLISHED-TTL:PT1H
BEGIN:VTIMEZONE
TZID:America/Indiana/Indianapolis
BEGIN:DAYLIGHT
TZOFFSETFROM:-0500
TZOFFSETTO:-0400
TZNAME:EDT
DTSTART:20190310T070000
END:DAYLIGHT
BEGIN:STANDARD
TZOFFSETFROM:-0400
TZOFFSETTO:-0500
TZNAME:EST
DTSTART:20191103T060000
END:STANDARD
BEGIN:DAYLIGHT
TZOFFSETFROM:-0500
TZOFFSETTO:-0400
TZNAME:EDT
DTSTART:20200308T070000
END:DAYLIGHT
BEGIN:STANDARD
TZOFFSETFROM:-0400
TZOFFSETTO:-0500
TZNAME:EST
DTSTART:20201101T060000
END:STANDARD
BEGIN:DAYLIGHT
TZOFFSETFROM:-0500
TZOFFSETTO:-0400
TZNAME:EDT
DTSTART:20210314T070000
END:DAYLIGHT
BEGIN:STANDARD
TZOFFSETFROM:-0400
TZOFFSETTO:-0500
TZNAME:EST
DTSTART:20211107T060000
END:STANDARD
END:VTIMEZONE
BEGIN:VEVENT
DTSTART;TZID=America/Indiana/Indianapolis:20201125T090000
DTEND;TZID=America/Indiana/Indianapolis:20201207T163000
DTSTAMP:20260421T231258
CREATED:20201123T205850Z
LAST-MODIFIED:20201123T205850Z
UID:8710-1606294800-1607358600@jasperin.org
SUMMARY:Heart of Jasper Presents: Scavenger Hunt
DESCRIPTION:Heart of Jasper Presents: \nHoliday Family Fun SCAVENGER HUNT Jasper\, IN \nNovember 25th-December 7th\, 2020 \nDIRECTIONS: \nLocate images on the Scavenger Hunt Sheet (obtain from Heart of Jasper FB page) & bring answers to the Jasper Chamber = WIN A PRIZE!  *Limited to the first 100* \nStart searching at any time!  Claim prizes at Jasper Chamber of Commerce\, 302 W 6th Street\, Jasper (M-F\, 9 am-4:30 pm)  Visit @Heartof Jasper On Facebook for more information. \n 
URL:https://jasperin.org/event/heart-of-jasper-presents-scavenger-hunt/
LOCATION:IN
END:VEVENT
BEGIN:VEVENT
DTSTART;TZID=America/Indiana/Indianapolis:20201203T140000
DTEND;TZID=America/Indiana/Indianapolis:20201203T140000
DTSTAMP:20260421T231258
CREATED:20201117T203955Z
LAST-MODIFIED:20201117T203955Z
UID:8628-1607004000-1607004000@jasperin.org
SUMMARY:Ribbon Cutting - Dunkin' Jasper
DESCRIPTION:JOIN THE JASPER CHAMBER  \nAs we welcome this new business to Jasper! \nLocated at:  3085 N Newton Street \n*MASKS REQUIRED TO ATTEND
URL:https://jasperin.org/event/ribbon-cutting-dunkin-jasper/
LOCATION:IN
END:VEVENT
BEGIN:VEVENT
DTSTART;TZID=America/Indiana/Indianapolis:20201204T080000
DTEND;TZID=America/Indiana/Indianapolis:20201206T170000
DTSTAMP:20260421T231258
CREATED:20191030T165802Z
LAST-MODIFIED:20201120T170020Z
UID:4673-1607068800-1607274000@jasperin.org
SUMMARY:O'Tannenbaum Days 2020
DESCRIPTION:O’Tannenbaum Days events will be held on December 4\, 5\, & 6\, 2020. \nPlease keep local businesses and authentic art alive in Jasper\, Indiana.  You are encouraged to support local and independently owned businesses while enjoying the great festivities of O’Tannenbaum Days!  Services provided by The Greater Downtown Jasper Business Association and the Jasper Chamber of Commerce. \nPICK UP YOUR O’TANNENBAUM DAYS GUIDE from Jasper Chamber of Commerce or any of the Downtown Businesses. \nO’TANNENBAUM DAYS GUIDE ~ 2020 ~ Dec. 4\, 5 & 6 ~ Jasper\, IN \nPlease keep local businesses and authentic art alive in Jasper\, Indiana. \nSupport locally and independently owned businesses while enjoying the great festivities of O’Tannenbaum Days! \nPLAN TO WEAR A MASK AND KEEP YOUR DISTANCE THROUGHOUT THIS WEEKEND. \n  \nO’Tannenbaum Days events and promotions provided as a service from: \nGreater Downtown Jasper Business Association – Jasper Chamber of Commerce – Dubois County Visitors Center \nPetsense\, LLC \n4278 N. Newton Street \nStop in to explore our store \nfor a gift for your pet. \n  \n  \nDisinger Jewelers of Jasper \n 3770 N. Newton St. \nSaturday event \nStop in & watch our Master \nGoldsmith create one of a \nkind jewelry treasures from 10-3. \n  \n  \n Mailboxes & Parcel Depot \n 3557 N. Newton St. \nStop by to see what we offer! \n  \n  \nJasper Flowers & Gifts \n1524 Newton St. \nFirst 25 customers on Friday and Saturday\, draw a wrapped piece of chocolate for special coupon. \nSamples as allowed. \n  \nJust A Trace…. \nthe creatively fun store!! \n215 W. 9th Street \nDaily specials and Game Basket Giveway. \n  \nThis Olde House \n815 Newton St. \nEnjoy our winter wonderland with extended shopping hours. \nComplimentary gift wrap\, weekend specials and free gift w/purchase. \n  \nThe Ivy Manor \n215 E. Ninth St. \nWinter party mix to munch on \nall weekend. \nFri:  9-7;  Sat: 9-4;  Sun: 10-4 \n  \nHoosier Business Machines \n808 North Main St.–North of Square \nStop by to see our Festive \nWindow Displays. \nMerry Christmas! \n  \n Elements of Design \nNorth of Square – 623 Main St. \nElements will be open late and \nserving gourmet  refreshments! \nStop in for some holiday cheer! \n  \nImpulse Gifts & Home Décor \nOn the Square – 613 Main St \nSpecials throughout the store\, \nsamples of Wind & Willow products. \nGourmet refreshments\, too. \nFri:  10-7  Sat: 10-4  Sun: 12-4 \n  \nMerle Norman Studio & Spa \nOn the Square – 607 Main Street \nDec. 4 – Miaxi Prajapati will be here doing eyebrow threading from 11:00 \nuntil 5:30.  Treats available. \n  \nOccasions of Jasper \nOn the Square – 533 Main Street \nChildren’s book author\, Angie Karcher and illustrator Emily Colucci Peak\, will be in the store for a book signing of \nA Clean Sweep – about the production of the LST WWII transport ship. \nA great gift for the young historian. Hours for signing & store on Facebook. \n  \nEJ & Dots \nOn the Square – 515 Main St. \nFeatured Artist\, Store Owner Ann \nwill be on hand all weekend making custom hair bows. \n  \nJust Whimsy \nOn the Square – 509 Main St. \nJ & B Jewelry Designs ~ ~ ~ \nJennifer Meunier and Brooke Messmer-Cook.    Hand designed charcuterie \nboard by Bridget Tuckey\, student-UK. \n  \nFinishing Touches \n Just ½ block south of the Square \n 505 Main St. \nFri:  9 a.m. – 8 p.m. \nRegister for gift certificates with a drawing at 8:00 p.m. \nSat: from 11-2 Feature Artist: \nJudy Bennett. Register for her hand-painted pieces. Drawing at 4:00 \nSun:  Free Jasper coloring book with a $25 purchase. \n  \n Boeckman’s Furniture and Floor Covering \nOn the Square – 512 Main St. \nTony Smith woodworking on \nFri:  10-4 and Sat:  9-3 \nRefreshments will be served. \n  \nL.H. Sturm Hardware \nOn the Square – 516 Main St. \nFeature Artist – Sat. from 10-3 \nMartha Rasche will demonstrate \nthe art of book “page folding.” \n  \nChocolate Bliss / Kitchen Essentials \nOn The Square – in the SE corner \nReceive an individually wrapped sweet treat. Promotions all weekend. \n  \n Siebert’s \nOn the Square – 6th & Main St. \nStop by during the weekend! \n  \nIllusions Spa \n211 E. 6th Street \nOpen House at Illusions Spa on Friday from 4 p.m. – 7:30 p.m. \nCookies\, treats\, Christmas punch. \nLive demos and give-aways \n  \nSeven Seas Pet Store \n248 E. 3rd Street \nStop in to explore our store \nfor a gift for your pet – or to \nbuy a pet as a gift! \n  \nThe Schnitzelbank Restaurant \n393 Third Avenue \nSchnitzelbank Catering will be baking German specialty cookies & breads \n& will have them displayed in the restaurant gift shop.  Enjoy!!  \n  \n Total Body Thermography & Wellness  and \nLIFEshift\, discover JOY \n205 South Main Street \nFriday at 4:00: \nReflexology information session and free mini sessions. \nSaturday at 11:00: \nThermography information session \nSaturday at 1:00: \nCrystal & gem information session \nSunday at 12:30: \nEssential oils 101 session and free samples. Other information available all weekend long. Drawing for free services. Gift certificates available. \n  \nJasper Salvage Recycling\, Inc. \n610 S. Clay Street \nGift bags & cookies on: \nSat:  8 – 12:00 noon \n  \nOlinger Diamond Center \nSouthgate Shopping Center \nKevin Olinger\, GIA Jewelry Manufacturing Arts Graduate \nwill be at the jeweler’s bench: \nFri:  10-4 & Sat: 10-2 \n  \nProfessional Eyecare Assoc. \nand Eyewear Designs \n515 West 6th Street \nIt’s the most wonderful time of the year! \nTo spread some holiday cheer\, we are having a Community Appreciation Sale. \nAll in-stock frames will be on sale. Follow us on Facebook for more info. \n  \nGreen Thumb \n702 3rd Avenue \nFree bow-making demonstrations at your request during the weekend. \n  \n More fun things to do…. \n  \nCarriage Rides – Starting point \nis in front of City Hall.  Free! \nFriday evening:  5:30 – 8 p.m. \nSaturday afternoon:  noon- 4 p.m. \nSunday afternoon:  noon to 3 p.m. \nEnding times will be enforced. \nMasks are required for carriages. \n  \nActors Community Theatre members will be Christmas caroling in the downtown area on \nFriday evening from 6:00 -8:00 p.m. \n  \nSanta’s Special House and the Beautiful Community Christmas   \nTree – A great Jasper Tradition! \nHoliday memories are made \nin downtown Jasper! \nBring your kids  and camera! \nSanta’s weekend hours:       \n       Friday:  5 – 8 p.m. \n       Saturday:  noon – 3 p.m. \n       Sunday:  noon – 3 p.m. \nPlease wear a mask to see Santa! \n  \n Dubois County Museum \n 2704 N. Newton Street      \nFri:  10-2    Sat: 10-4   Sun:  1-4  \nEnjoy a thousand Santa’s from the Museum’s collection. \n2020 Festival of Trees \n“Dubois Co. Communities” \n14+ Christmas Trees + plus many \nother decorated trees throughout \nthe museum.  Nice gift shop\, too! \nStroll through our candlelit village and stop by our Christmas photo booth to capture a special image to commemorate your visit. \n \nJasper Arts Center\nSouth on 3rd Avenue \n951 College Avenue \nDavid Stratton– Landscape Gestures \nIn the Krempp Gallery \nFri:  8:30-5 & Sun: 12-3. \nGallery is closed on Saturday. \nPhone 812/482-3070 for info. \n  \nJasper Chamber of Commerce \n302 West 6th  Street \nMaps & brochures available in \noutside rack.  812/482-6866. \n  \n  \n  \nGerman Christmas Custom: \nThe German Tannenbaum \n(Christmas Tree) is traditionally put up and decorated on Christmas Eve.  Either fir trees or spruce trees are normally used. \nDecorations may include tinsel\, glass balls or straw ornaments and sweets. \nA star or angel tops the Tannenbaum and beneath the tree a nativity scene might be set up and the presents placed next to it.                               
URL:https://jasperin.org/event/otannenbaum-days-2020/
LOCATION:IN
END:VEVENT
BEGIN:VEVENT
DTSTART;TZID=America/Indiana/Indianapolis:20201209T113000
DTEND;TZID=America/Indiana/Indianapolis:20201209T113000
DTSTAMP:20260421T231258
CREATED:20201203T163143Z
LAST-MODIFIED:20201203T163143Z
UID:8801-1607513400-1607513400@jasperin.org
SUMMARY:Women Empowering Women December Event
DESCRIPTION:“YOU OWN YOU” WITH CARRIE ELLSPERMANN \nThe Dubois County women’s leadership organization\, Women Empowering Women (WEW)\, will host its next event\, virtually\, on Wednesday\, December 9th to hear Carrie Ellspermann\, Chief People Officer at Old National Bank.  Her presentation is titled “You Own You.”  The session will be held via the Zoom webinar platform and begin at 11:45 am.  This event is open to all prospective and current WEW members. \nDuring these “interesting” times\, it has never been more important for us to press the pause button and invest time and energy in to being the best we can be.  “You Own You” will help you do just that!  Together we will explore how owning your attitude\, development\, and network will help you grow as a leader in every aspect of life. \nIn addition to her roles with human resources\, presenter Caroline “Carrie” Ellspermann also is a member of Old National Bank’s Operating Group.  Prior to her current role\, she served various other leadership roles within Old National.  She began her banking career in 1991 as a sales manager in bank administration at Citizens Bank.  Before that\, she was a sales representative with Deluxe Check Printers.  She is a graduate of Indiana University and obtained her MBA from Vanderbilt University.  As a native of Evansville\, Ellspermann has also been involved in many civic and community activities. \nAdvanced reservations are required to get the link to the call.  Reservations should be made by calling the Jasper Chamber of Commerce at 812-482-6866 or by emailing chamber@jasperin.org by Monday\, December 7th.  The link to the meeting will then be emailed to all participants prior to the call on December 9th. \nThe mission of Women Empowering Women is to inspire women in business to reach their highest potential by instilling confidence\, building networks\, and promoting community in Dubois County.  Membership is open to any woman in business who lives or works in Dubois County. \nFor more information about WEW and to access a membership application\, visit the organizations’ Facebook page or contact the Jasper Chamber of Commerce. \n 
URL:https://jasperin.org/event/women-empowering-women-december-event/
LOCATION:IN
END:VEVENT
END:VCALENDAR