BEGIN:VCALENDAR
VERSION:2.0
PRODID:-//Jasper Chamber of Commerce - ECPv6.15.20//NONSGML v1.0//EN
CALSCALE:GREGORIAN
METHOD:PUBLISH
X-WR-CALNAME:Jasper Chamber of Commerce
X-ORIGINAL-URL:https://jasperin.org
X-WR-CALDESC:Events for Jasper Chamber of Commerce
REFRESH-INTERVAL;VALUE=DURATION:PT1H
X-Robots-Tag:noindex
X-PUBLISHED-TTL:PT1H
BEGIN:VTIMEZONE
TZID:America/Indiana/Indianapolis
BEGIN:DAYLIGHT
TZOFFSETFROM:-0500
TZOFFSETTO:-0400
TZNAME:EDT
DTSTART:20200308T070000
END:DAYLIGHT
BEGIN:STANDARD
TZOFFSETFROM:-0400
TZOFFSETTO:-0500
TZNAME:EST
DTSTART:20201101T060000
END:STANDARD
BEGIN:DAYLIGHT
TZOFFSETFROM:-0500
TZOFFSETTO:-0400
TZNAME:EDT
DTSTART:20210314T070000
END:DAYLIGHT
BEGIN:STANDARD
TZOFFSETFROM:-0400
TZOFFSETTO:-0500
TZNAME:EST
DTSTART:20211107T060000
END:STANDARD
BEGIN:DAYLIGHT
TZOFFSETFROM:-0500
TZOFFSETTO:-0400
TZNAME:EDT
DTSTART:20220313T070000
END:DAYLIGHT
BEGIN:STANDARD
TZOFFSETFROM:-0400
TZOFFSETTO:-0500
TZNAME:EST
DTSTART:20221106T060000
END:STANDARD
END:VTIMEZONE
BEGIN:VEVENT
DTSTART;TZID=America/Indiana/Indianapolis:20210707T053000
DTEND;TZID=America/Indiana/Indianapolis:20210707T083000
DTSTAMP:20260424T085744
CREATED:20210427T161806Z
LAST-MODIFIED:20210427T162542Z
UID:10148-1625635800-1625646600@jasperin.org
SUMMARY:2021 Health Screening
DESCRIPTION:Who is it for?  Jasper Chamber of Commerce Members and the Public \nWhen/Where?  Wednesday July 7\, 2021 – 5:45-8:30 am at the Memorial Southside Office\, located at 1100 W 12th Avenue\, Jasper\, IN  47546 \nRegister:  Sign up online by using the following link below.  Click on “Register for this Event.”  Select the date and time slot you would like to be scheduled for your health screening and fill in all needed information. \nwww.mhhcc.org/JasperChamberSummer2021 \n*12 Hour Fasting needed.
URL:https://jasperin.org/event/jasper-chamber-of-commerce-2021-health-screening/
LOCATION:IN
END:VEVENT
BEGIN:VEVENT
DTSTART;TZID=America/Indiana/Indianapolis:20210712T180000
DTEND;TZID=America/Indiana/Indianapolis:20210712T200000
DTSTAMP:20260424T085744
CREATED:20210702T145924Z
LAST-MODIFIED:20210702T145924Z
UID:10379-1626112800-1626120000@jasperin.org
SUMMARY:Launching Your Own Business Workshop
DESCRIPTION:Launching Your Own Business Workshop \nPresented by the Indiana Small Business Development Center and \nHosted by the Jasper Chamber of Commerce \n  \nThe Launching Your Own Business Workshop\, \ntaught by a South Central Indiana ISBDC business advisor Terri Brown-Dietsch\, \nis your first step towards small business ownership success! \n  \nEvery successful business is built on a solid foundation. \nThis class will help you evaluate your business idea and prepare you to create a sound business plan\, \nmanage expectations\, and increase your chances of accessing capital. \n  \nFollowing this course\, a South Central Indiana ISBDC business advisor will be available \nfor free one-on-one business consulting\, which includes market research and financial diagnostic reports\, \nto help you implement your strategic plan and provide ongoing guidance as you grow your own business. \n  \nYou will schedule this one-on-one session on your own\, for your convenience. \n  \n  \nWORKSHOP WILL COVER: \n\nIdentify personal objectives\, skills and resources\nUnderstand entrepreneurial characteristics\nDescribe business idea and requirements\nEvaluate business feasibility\nDevelop business plan\nA first step in finding funding resources\n\n  \nDate:  Monday\, July 12\, 2021 \nTime:  6-8:00 p.m. \nLocation:  this will be a virtual presentation \nCost:  no charge \nRSVP:  Jasper Chamber (chamber@jasperin.org) or 812-482-6866 \n  \nAfter you RSVP\, you will be a sent a link to this Zoom meeting. \nYou will also be asked to complete a confidentiality form\, \nto be completed prior to participating in the presentation. \n  \n  \nThis workshop is your first step towards small business ownership success and is designed for persons wanting to \nstart a business but have not yet done so\, and those who have recently done so but want to learn more about \nmarketing and pitching their business to customers. Following this course\, \nISBDC Business Advisors will be available for free one-on-one business consulting to help you \nimplement your strategic plan and provide ongoing guidance as you grow your business. \nThe Workshop Covers: 1) Identifying Personal Objectives\, Skills\, and Resources \n2) Describing Your Business Idea and Requirements \n3) Understanding your competition and how to position your product or service. \nAnd 4) Identifying the managerial requirements for your business. \n  \n 
URL:https://jasperin.org/event/launching-your-own-business-workshop/
LOCATION:IN
END:VEVENT
BEGIN:VEVENT
DTSTART;TZID=America/Indiana/Indianapolis:20210715T153000
DTEND;TZID=America/Indiana/Indianapolis:20210715T153000
DTSTAMP:20260424T085744
CREATED:20210701T190044Z
LAST-MODIFIED:20210701T190044Z
UID:10376-1626363000-1626363000@jasperin.org
SUMMARY:Ribbon Cutting - Fusion Hair & Nail Studio
DESCRIPTION:JOIN THE JASPER CHAMBER \nAs we welcome this new business to Jasper! \nLocated at:  2893 N Newton Street \n 
URL:https://jasperin.org/event/ribbon-cutting-fusion-hair-nail-studio/
LOCATION:IN
END:VEVENT
END:VCALENDAR