BEGIN:VCALENDAR
VERSION:2.0
PRODID:-//Jasper Chamber of Commerce - ECPv6.15.20//NONSGML v1.0//EN
CALSCALE:GREGORIAN
METHOD:PUBLISH
X-WR-CALNAME:Jasper Chamber of Commerce
X-ORIGINAL-URL:https://jasperin.org
X-WR-CALDESC:Events for Jasper Chamber of Commerce
REFRESH-INTERVAL;VALUE=DURATION:PT1H
X-Robots-Tag:noindex
X-PUBLISHED-TTL:PT1H
BEGIN:VTIMEZONE
TZID:America/Indiana/Indianapolis
BEGIN:DAYLIGHT
TZOFFSETFROM:-0500
TZOFFSETTO:-0400
TZNAME:EDT
DTSTART:20200308T070000
END:DAYLIGHT
BEGIN:STANDARD
TZOFFSETFROM:-0400
TZOFFSETTO:-0500
TZNAME:EST
DTSTART:20201101T060000
END:STANDARD
BEGIN:DAYLIGHT
TZOFFSETFROM:-0500
TZOFFSETTO:-0400
TZNAME:EDT
DTSTART:20210314T070000
END:DAYLIGHT
BEGIN:STANDARD
TZOFFSETFROM:-0400
TZOFFSETTO:-0500
TZNAME:EST
DTSTART:20211107T060000
END:STANDARD
BEGIN:DAYLIGHT
TZOFFSETFROM:-0500
TZOFFSETTO:-0400
TZNAME:EDT
DTSTART:20220313T070000
END:DAYLIGHT
BEGIN:STANDARD
TZOFFSETFROM:-0400
TZOFFSETTO:-0500
TZNAME:EST
DTSTART:20221106T060000
END:STANDARD
END:VTIMEZONE
BEGIN:VEVENT
DTSTART;TZID=America/Indiana/Indianapolis:20210814T113000
DTEND;TZID=America/Indiana/Indianapolis:20210814T113000
DTSTAMP:20260424T102549
CREATED:20210806T180234Z
LAST-MODIFIED:20210806T180234Z
UID:10599-1628940600-1628940600@jasperin.org
SUMMARY:Ribbon Cutting - Game Knight
DESCRIPTION:JOIN THE JASPER CHAMBER \nAs we welcome this NEW BUSINESS to Jasper! \nWe had this planned last year – so now this is happening!! \nLocated at:  2867 N Newton Street \n 
URL:https://jasperin.org/event/ribbon-cutting-game-knight/
LOCATION:IN
END:VEVENT
BEGIN:VEVENT
DTSTART;TZID=America/Indiana/Indianapolis:20210826T113000
DTEND;TZID=America/Indiana/Indianapolis:20210826T113000
DTSTAMP:20260424T102549
CREATED:20210813T203803Z
LAST-MODIFIED:20210813T203803Z
UID:10638-1629977400-1629977400@jasperin.org
SUMMARY:Lunch and Learn Session
DESCRIPTION:The Jasper Chamber and the Tri-State Better Business Bureau invite you to a Lunch and Learn Session via ZOOM dedicated to low-cost and free marketing tools that can help you raise awareness for your business and advertise products. \nTo sign up\, please email to:  chamber@jasperin.org   or call:  812-482-6866
URL:https://jasperin.org/event/lunch-and-learn-session/
LOCATION:IN
END:VEVENT
END:VCALENDAR